BEGIN:VCALENDAR
VERSION:2.0
PRODID:-//Arcal Sélestat - ECPv6.15.14//NONSGML v1.0//EN
CALSCALE:GREGORIAN
METHOD:PUBLISH
X-WR-CALNAME:Arcal Sélestat
X-ORIGINAL-URL:http://www.arcal-selestat.com
X-WR-CALDESC:Évènements pour Arcal Sélestat
REFRESH-INTERVAL;VALUE=DURATION:PT1H
X-Robots-Tag:noindex
X-PUBLISHED-TTL:PT1H
BEGIN:VTIMEZONE
TZID:Europe/Helsinki
BEGIN:DAYLIGHT
TZOFFSETFROM:+0200
TZOFFSETTO:+0300
TZNAME:EEST
DTSTART:20250330T010000
END:DAYLIGHT
BEGIN:STANDARD
TZOFFSETFROM:+0300
TZOFFSETTO:+0200
TZNAME:EET
DTSTART:20251026T010000
END:STANDARD
BEGIN:DAYLIGHT
TZOFFSETFROM:+0200
TZOFFSETTO:+0300
TZNAME:EEST
DTSTART:20260329T010000
END:DAYLIGHT
BEGIN:STANDARD
TZOFFSETFROM:+0300
TZOFFSETTO:+0200
TZNAME:EET
DTSTART:20261025T010000
END:STANDARD
BEGIN:DAYLIGHT
TZOFFSETFROM:+0200
TZOFFSETTO:+0300
TZNAME:EEST
DTSTART:20270328T010000
END:DAYLIGHT
BEGIN:STANDARD
TZOFFSETFROM:+0300
TZOFFSETTO:+0200
TZNAME:EET
DTSTART:20271031T010000
END:STANDARD
END:VTIMEZONE
BEGIN:VEVENT
DTSTART;TZID=Europe/Helsinki:20260302T140000
DTEND;TZID=Europe/Helsinki:20260302T180000
DTSTAMP:20260419T174302
CREATED:20260217T122602Z
LAST-MODIFIED:20260217T122602Z
UID:23220-1772460000-1772474400@www.arcal-selestat.com
SUMMARY:Jeux de cartes (tarot et belote coinchée)
DESCRIPTION:Afin d’organiser les séances\, nous vous prions de bien vouloir nous avertir de votre présence. \nCes jeux se déroulent de 14 heures à 18 heures \nAdresses : \n* Baudouin TRABAND – 4 rue Jean Jaurès 67600 SELESTAT – tél 03 88 92 91 30 / 06 09 30 31 89 \nBien cordialement.\nPour le Comité : Baudouin
URL:http://www.arcal-selestat.com/event/jeux-de-cartes-tarot-et-belote-coinchee-45/
END:VEVENT
BEGIN:VEVENT
DTSTART;TZID=Europe/Helsinki:20260305T100000
DTEND;TZID=Europe/Helsinki:20260305T150000
DTSTAMP:20260419T174302
CREATED:20260217T130556Z
LAST-MODIFIED:20260228T121821Z
UID:23248-1772704800-1772722800@www.arcal-selestat.com
SUMMARY:A.G.
DESCRIPTION:10h00 : ASSEMBLEE GENERALE Salle Ste Barbe à SELESTAT \nÀ partir de 12 h 15 : Hôtel Restaurant Le Parc à St Hippolyte. \nMENU\nAmuse-Bouche\nSaladine folle du Parc (foie gras\, magret fumé\, avocat\, champignons\, tomates)\nDos de cabillaud poêlé\, risotto aux champignons\, sauce citronnelle\nArlette framboise – pistache (tranches de pâte feuilletée caramélisées et montées en mille-feuille)\nCafé et ses Mignardises \nBOISSONS : Incluses : apéritif (kir au vin blanc ou sans alcool) – eau minérale – café
URL:http://www.arcal-selestat.com/event/23248/
END:VEVENT
BEGIN:VEVENT
DTSTART;TZID=Europe/Helsinki:20260306T133000
DTEND;TZID=Europe/Helsinki:20260306T173000
DTSTAMP:20260419T174302
CREATED:20260228T121226Z
LAST-MODIFIED:20260228T121534Z
UID:23250-1772803800-1772818200@www.arcal-selestat.com
SUMMARY:Randonnée
DESCRIPTION:Rendez-vous à 13h30 au parking de covoiturage du Match ou à 13h45 à la \nsortie de Scherwiller vers Kientzville. \nNous emprunterons la piste cyclable qui traverse Kientzville en direction de Dambach-La-Ville et retour par Dieffenthal. \nDistance 9 km  durée 2h30 pas de dénivelé participation 0\,50 €. \n\nLes personnes qui se rendent directement au lieu du départ réel de la randonnée sont priées de se renseigner si celle-ci est maintenue ou modifiée avec changement du lieu de départ. \nL’Arcal de Sélestat se réserve le droit d’annuler une sortie en proposant d’avancer à une date antérieure ou de reporter à une date ultérieure (Zone vigilance jaune\, orange et rouge\, fortes intempéries\, etc.). \nPour tous renseignements : \nBaudouin TRABAND Tél : 06 09 30 31 89
URL:http://www.arcal-selestat.com/event/randonnee-32/
END:VEVENT
BEGIN:VEVENT
DTSTART;TZID=Europe/Helsinki:20260316T140000
DTEND;TZID=Europe/Helsinki:20260316T180000
DTSTAMP:20260419T174302
CREATED:20260217T122648Z
LAST-MODIFIED:20260217T122648Z
UID:23222-1773669600-1773684000@www.arcal-selestat.com
SUMMARY:Jeux de cartes (tarot et belote coinchée)
DESCRIPTION:Afin d’organiser les séances\, nous vous prions de bien vouloir nous avertir de votre présence. \nCes jeux se déroulent de 14 heures à 18 heures \nAdresses : \n* Baudouin TRABAND – 4 rue Jean Jaurès 67600 SELESTAT – tél 03 88 92 91 30 / 06 09 30 31 89 \nBien cordialement.\nPour le Comité : Baudouin
URL:http://www.arcal-selestat.com/event/jeux-de-cartes-tarot-et-belote-coinchee-46/
END:VEVENT
BEGIN:VEVENT
DTSTART;TZID=Europe/Helsinki:20260320T133000
DTEND;TZID=Europe/Helsinki:20260320T173000
DTSTAMP:20260419T174302
CREATED:20260217T125830Z
LAST-MODIFIED:20260313T125955Z
UID:23242-1774013400-1774027800@www.arcal-selestat.com
SUMMARY:Randonnée
DESCRIPTION:Rendez-vous à 13h30 au parking de covoiturage ou à 13h45 à l’étang \nde pêche de Ohnenheim\, pour une ballade à travers champs en passant \npar la ferme Schnellenbuhl et retour . \nDistance 8 km  durée 2h30 pas de dénivelé  participation  1 € \nLes personnes qui se rendent directement au lieu du départ réel de la randonnée sont priées de se renseigner si celle-ci est maintenue ou modifiée avec changement du lieu de départ. \nL’Arcal de Sélestat se réserve le droit d’annuler une sortie en proposant d’avancer à une date antérieure ou de reporter à une date ultérieure (Zone vigilance jaune\, orange et rouge\, fortes intempéries\, etc.). \nPour tous renseignements : \nBaudouin TRABAND Tél : 03 88 92 91 30 ou 06 09 30 31 89 ou mail à randoselarcal67@gmail.com
URL:http://www.arcal-selestat.com/event/randonnee-31/
END:VEVENT
BEGIN:VEVENT
DTSTART;TZID=Europe/Helsinki:20260324T100000
DTEND;TZID=Europe/Helsinki:20260324T170000
DTSTAMP:20260419T174302
CREATED:20260310T170020Z
LAST-MODIFIED:20260310T170020Z
UID:23263-1774346400-1774371600@www.arcal-selestat.com
SUMMARY:Sortie à Barr
DESCRIPTION:Visites de la Maison Lips\, du musée de la Folie Marco et d’un atelier d’artiste et Déjeuner à Heiligenstein.
URL:http://www.arcal-selestat.com/event/sortie-a-barr/
END:VEVENT
BEGIN:VEVENT
DTSTART;TZID=Europe/Helsinki:20260324T140000
DTEND;TZID=Europe/Helsinki:20260324T180000
DTSTAMP:20260419T174302
CREATED:20260217T123401Z
LAST-MODIFIED:20260217T123401Z
UID:23228-1774360800-1774375200@www.arcal-selestat.com
SUMMARY:Scrabble
DESCRIPTION:Afin d’organiser les séances\, nous vous prions de bien vouloir nous avertir de votre présence. \nCes jeux se déroulent de 14 heures à 18 heures \nAdresses : \n* Baudouin TRABAND – 4 rue Jean Jaurès 67600 SELESTAT – tél 03 88 92 91 30 / 06 09 30 31 89 \nBien cordialement.\nPour le Comité : Baudouin
URL:http://www.arcal-selestat.com/event/scrabble-21/
END:VEVENT
BEGIN:VEVENT
DTSTART;TZID=Europe/Helsinki:20260330T140000
DTEND;TZID=Europe/Helsinki:20260330T160000
DTSTAMP:20260419T174302
CREATED:20260217T125941Z
LAST-MODIFIED:20260217T125941Z
UID:23244-1774879200-1774886400@www.arcal-selestat.com
SUMMARY:Flânerie
DESCRIPTION:Les flâneries ont lieu le lundi après-midi à partir de 14H. \nLe lieu de rendez-vous est communiqué 15 jours avant par mail. \nIl s’agit d’une promenade de 3 à 5 km sans trop de dénivelé\, d’une durée d’1 H à 1 H30 en fonction des participants. \nL’Arcal de Sélestat se réserve le droit d’annuler une sortie en proposant d’avancer à une date antérieure ou de reporter à une date ultérieure (Zone vigilance jaune\, orange et rouge\, fortes intempéries\, etc.).
URL:http://www.arcal-selestat.com/event/flanerie-2/
END:VEVENT
END:VCALENDAR