BEGIN:VCALENDAR
VERSION:2.0
PRODID:-//Arcal Sélestat - ECPv6.15.14//NONSGML v1.0//EN
CALSCALE:GREGORIAN
METHOD:PUBLISH
X-WR-CALNAME:Arcal Sélestat
X-ORIGINAL-URL:http://www.arcal-selestat.com
X-WR-CALDESC:Évènements pour Arcal Sélestat
REFRESH-INTERVAL;VALUE=DURATION:PT1H
X-Robots-Tag:noindex
X-PUBLISHED-TTL:PT1H
BEGIN:VTIMEZONE
TZID:Europe/Helsinki
BEGIN:DAYLIGHT
TZOFFSETFROM:+0200
TZOFFSETTO:+0300
TZNAME:EEST
DTSTART:20250330T010000
END:DAYLIGHT
BEGIN:STANDARD
TZOFFSETFROM:+0300
TZOFFSETTO:+0200
TZNAME:EET
DTSTART:20251026T010000
END:STANDARD
BEGIN:DAYLIGHT
TZOFFSETFROM:+0200
TZOFFSETTO:+0300
TZNAME:EEST
DTSTART:20260329T010000
END:DAYLIGHT
BEGIN:STANDARD
TZOFFSETFROM:+0300
TZOFFSETTO:+0200
TZNAME:EET
DTSTART:20261025T010000
END:STANDARD
BEGIN:DAYLIGHT
TZOFFSETFROM:+0200
TZOFFSETTO:+0300
TZNAME:EEST
DTSTART:20270328T010000
END:DAYLIGHT
BEGIN:STANDARD
TZOFFSETFROM:+0300
TZOFFSETTO:+0200
TZNAME:EET
DTSTART:20271031T010000
END:STANDARD
END:VTIMEZONE
BEGIN:VEVENT
DTSTART;TZID=Europe/Helsinki:20260202T140000
DTEND;TZID=Europe/Helsinki:20260202T180000
DTSTAMP:20260419T191010
CREATED:20260217T122431Z
LAST-MODIFIED:20260217T122431Z
UID:23216-1770040800-1770055200@www.arcal-selestat.com
SUMMARY:Jeux de cartes (tarot et belote coinchée)
DESCRIPTION:Afin d’organiser les séances\, nous vous prions de bien vouloir nous avertir de votre présence. \nCes jeux se déroulent de 14 heures à 18 heures \nAdresses : \n* Baudouin TRABAND – 4 rue Jean Jaurès 67600 SELESTAT – tél 03 88 92 91 30 / 06 09 30 31 89 \nBien cordialement.\nPour le Comité : Baudouin
URL:http://www.arcal-selestat.com/event/jeux-de-cartes-tarot-et-belote-coinchee-43/
END:VEVENT
BEGIN:VEVENT
DTSTART;TZID=Europe/Helsinki:20260206T133000
DTEND;TZID=Europe/Helsinki:20260206T170000
DTSTAMP:20260419T191010
CREATED:20260130T164508Z
LAST-MODIFIED:20260130T164508Z
UID:23207-1770384600-1770397200@www.arcal-selestat.com
SUMMARY:Randonnée du 6 février 2026
DESCRIPTION:Rendez-vous à 13h30 au parking de covoiturage du Match ou à 13h45 à la chapelle Ste Marguerite à EPFIG.\nLe village et au tour d’Epfig \, distance 8\,3 km durée 2h30  dénivelé 115m.\nPour tout renseignement tél ; 0609303189  participation  1\,25 €\nBaudouin
URL:http://www.arcal-selestat.com/event/randonnee-du-6-fevrier-2026/
END:VEVENT
BEGIN:VEVENT
DTSTART;TZID=Europe/Helsinki:20260212T120000
DTEND;TZID=Europe/Helsinki:20260212T170000
DTSTAMP:20260419T191010
CREATED:20260117T153231Z
LAST-MODIFIED:20260117T153231Z
UID:23177-1770897600-1770915600@www.arcal-selestat.com
SUMMARY:Après-midi récréatif
DESCRIPTION:Rendez-vous à 12 H au niveau du parking (Bowling/Cinéma Le Relief/Restaurant). \nDéjeuner à l’Ancienne Douane suivi d’un bowling ou d’une séance de cinéma selon votre choix.
URL:http://www.arcal-selestat.com/event/apres-midi-recreatif/
END:VEVENT
BEGIN:VEVENT
DTSTART;TZID=Europe/Helsinki:20260216T140000
DTEND;TZID=Europe/Helsinki:20260216T180000
DTSTAMP:20260419T191010
CREATED:20260217T122520Z
LAST-MODIFIED:20260217T122520Z
UID:23218-1771250400-1771264800@www.arcal-selestat.com
SUMMARY:Jeux de cartes (tarot et belote coinchée)
DESCRIPTION:Afin d’organiser les séances\, nous vous prions de bien vouloir nous avertir de votre présence. \nCes jeux se déroulent de 14 heures à 18 heures \nAdresses : \n* Baudouin TRABAND – 4 rue Jean Jaurès 67600 SELESTAT – tél 03 88 92 91 30 / 06 09 30 31 89 \nBien cordialement.\nPour le Comité : Baudouin
URL:http://www.arcal-selestat.com/event/jeux-de-cartes-tarot-et-belote-coinchee-44/
END:VEVENT
BEGIN:VEVENT
DTSTART;TZID=Europe/Helsinki:20260220T133000
DTEND;TZID=Europe/Helsinki:20260220T173000
DTSTAMP:20260419T191010
CREATED:20260217T121606Z
LAST-MODIFIED:20260217T121606Z
UID:23210-1771594200-1771608600@www.arcal-selestat.com
SUMMARY:Randonnée du 20 février 2026
DESCRIPTION:Rendez-vous à 13h30 au parking de covoiturage du Match ou à 13h40 au \nparking de la montagne des singes\, notre point de départ. \nDescente vers la station de méthanisation et remontée vers le carrefour Toterman et retour \nvers le point de départ en passant par le bas. \nDistance de 8 km durée 2H30  dénivelé 200m en pente douce participation 0\,50 E. \n\nLes personnes qui se rendent directement au lieu du départ réel de la randonnée sont priées de se renseigner si celle-ci est maintenue ou modifiée avec changement du lieu de départ. \nL’Arcal de Sélestat se réserve le droit d’annuler une sortie en proposant d’avancer à une date antérieure ou de reporter à une date ultérieure (Zone vigilance jaune\, orange et rouge\, fortes intempéries\, etc.). \nPour tout renseignement tél : 06.09.30.31.89 \nBaudouin
URL:http://www.arcal-selestat.com/event/randonnee-du-20-fevrier-2026/
END:VEVENT
BEGIN:VEVENT
DTSTART;TZID=Europe/Helsinki:20260223T140000
DTEND;TZID=Europe/Helsinki:20260223T160000
DTSTAMP:20260419T191010
CREATED:20260217T124557Z
LAST-MODIFIED:20260217T124557Z
UID:23238-1771855200-1771862400@www.arcal-selestat.com
SUMMARY:Flâneries
DESCRIPTION:Chères flâneuses et flâneurs\,\n\nNous vous invitons à la prochaine flânerie qui aura lieu le lundi 23 Février 2026. \n\nNous vous donnons rendez vous à 14 heures à Sélestat au bout de la rue des Dahlias. Nous prendrons le Kohlzfeldweg puis à gauche sur la rue du grand Muehlweg pour revenir par le Schanzenweg. \n\nMalgré la pluie des derniers jours\, le chemin n’est pas trop boueux.\n\n\nLa balade d’une distance de 5 kms s’effectuera en un peu plus d’une heure sans dénivelé.\nIl est possible d’écourter cette flânerie si nécessaire en rejoignant le Schanzenweg sans passer par un bout de la rue d’Ebersheim (soit 4 kms au lieu de 5 kms).\n\nNous vous attendons au point de rendez-vous.\n\nMerci de consulter vos mails\, le matin de la flânerie\, afin de vérifier si celle-ci n’est pas annulée en raison d’une météo capricieuse. \n\n\n\nA bientôt\n\n   Martine C         &      Martine B
URL:http://www.arcal-selestat.com/event/flaneries-17/
END:VEVENT
BEGIN:VEVENT
DTSTART;TZID=Europe/Helsinki:20260224T140000
DTEND;TZID=Europe/Helsinki:20260224T180000
DTSTAMP:20260419T191010
CREATED:20260217T123303Z
LAST-MODIFIED:20260217T123303Z
UID:23226-1771941600-1771956000@www.arcal-selestat.com
SUMMARY:Scrabble
DESCRIPTION:Afin d’organiser les séances\, nous vous prions de bien vouloir nous avertir de votre présence. \nCes jeux se déroulent de 14 heures à 18 heures \nAdresses : \n* Baudouin TRABAND – 4 rue Jean Jaurès 67600 SELESTAT – tél 03 88 92 91 30 / 06 09 30 31 89 \nBien cordialement.\nPour le Comité : Baudouin
URL:http://www.arcal-selestat.com/event/scrabble-20/
END:VEVENT
END:VCALENDAR