BEGIN:VCALENDAR
VERSION:2.0
PRODID:-//Arcal Sélestat - ECPv6.15.14//NONSGML v1.0//EN
CALSCALE:GREGORIAN
METHOD:PUBLISH
X-WR-CALNAME:Arcal Sélestat
X-ORIGINAL-URL:http://www.arcal-selestat.com
X-WR-CALDESC:Évènements pour Arcal Sélestat
REFRESH-INTERVAL;VALUE=DURATION:PT1H
X-Robots-Tag:noindex
X-PUBLISHED-TTL:PT1H
BEGIN:VTIMEZONE
TZID:Europe/Helsinki
BEGIN:DAYLIGHT
TZOFFSETFROM:+0200
TZOFFSETTO:+0300
TZNAME:EEST
DTSTART:20240331T010000
END:DAYLIGHT
BEGIN:STANDARD
TZOFFSETFROM:+0300
TZOFFSETTO:+0200
TZNAME:EET
DTSTART:20241027T010000
END:STANDARD
BEGIN:DAYLIGHT
TZOFFSETFROM:+0200
TZOFFSETTO:+0300
TZNAME:EEST
DTSTART:20250330T010000
END:DAYLIGHT
BEGIN:STANDARD
TZOFFSETFROM:+0300
TZOFFSETTO:+0200
TZNAME:EET
DTSTART:20251026T010000
END:STANDARD
BEGIN:DAYLIGHT
TZOFFSETFROM:+0200
TZOFFSETTO:+0300
TZNAME:EEST
DTSTART:20260329T010000
END:DAYLIGHT
BEGIN:STANDARD
TZOFFSETFROM:+0300
TZOFFSETTO:+0200
TZNAME:EET
DTSTART:20261025T010000
END:STANDARD
END:VTIMEZONE
BEGIN:VEVENT
DTSTART;TZID=Europe/Helsinki:20251003T133000
DTEND;TZID=Europe/Helsinki:20251003T173000
DTSTAMP:20260420T013821
CREATED:20250930T153021Z
LAST-MODIFIED:20250930T153239Z
UID:23086-1759498200-1759512600@www.arcal-selestat.com
SUMMARY:Randonnée
DESCRIPTION:Rendez-vous à 13h30 au parking de covoiturage du Match ou au point de départ à la Huehnelmuehl . \nCircuit en direction du Taennelkreuz\, montée vers l’Ortenbourg et retour par le chemin forestier des trois châteaux. \nDistance de 8\,5 km  dénivelé 300m  durée 2h30. Participation  0\,50 €\n\nPour tout renseignement  tél : 0609303189\nBon week-end à tous et à la semaine prochaine   Baudouin
URL:http://www.arcal-selestat.com/event/randonnees-39/
END:VEVENT
BEGIN:VEVENT
DTSTART;TZID=Europe/Helsinki:20251006T140000
DTEND;TZID=Europe/Helsinki:20251006T180000
DTSTAMP:20260420T013821
CREATED:20250930T153432Z
LAST-MODIFIED:20250930T153432Z
UID:23089-1759759200-1759773600@www.arcal-selestat.com
SUMMARY:Jeux de cartes (tarot et belote coinchée)
DESCRIPTION:Afin d’organiser les séances\, nous vous prions de bien vouloir nous avertir de votre présence. \nCes jeux se déroulent de 14 heures à 18 heures \nAdresses : \n* Baudouin TRABAND – 4 rue Jean Jaurès 67600 SELESTAT – tél 03 88 92 91 30 / 06 09 30 31 89 \nBien cordialement.\nPour le Comité : Baudouin
URL:http://www.arcal-selestat.com/event/jeux-de-cartes-tarot-et-belote-coinchee-37/
END:VEVENT
BEGIN:VEVENT
DTSTART;TZID=Europe/Helsinki:20251009T132000
DTEND;TZID=Europe/Helsinki:20251009T220000
DTSTAMP:20260420T013821
CREATED:20250825T111000Z
LAST-MODIFIED:20250825T111000Z
UID:23059-1760016000-1760047200@www.arcal-selestat.com
SUMMARY:Journées d’Octobre de Mulhouse
DESCRIPTION:Folie’Flore est un show floral unique en Europe qui se déroule chaque année début octobre à\nMulhouse. Au total ce sont\, 11 000 m² de jardins éphémères qui prennent vie au rythme des\njeux d’eau et de lumière pour 11 jours de spectacle. \n13 h 20 Rendez-vous au parking des vieux remparts à Sélestat (côté cour de tennis) rue de\nla brigade Alsace Lorraine. Départ à 13h30.\nArrivée au Parc Expo de Mulhouse.\nVisites libres du Parc Expo et de la partie Folie’Flore intérieur\, extérieur et de nuit.\nRestauration libre sur place (une vingtaine de restaurants à votre disposition)\nRetour : Départ Mulhouse 21 h / arrivée à Sélestat vers 22 h
URL:http://www.arcal-selestat.com/event/journees-doctobre-de-mulhouse/
END:VEVENT
BEGIN:VEVENT
DTSTART;TZID=Europe/Helsinki:20251014T140000
DTEND;TZID=Europe/Helsinki:20251014T180000
DTSTAMP:20260420T013821
CREATED:20250930T153653Z
LAST-MODIFIED:20250930T153653Z
UID:23093-1760450400-1760464800@www.arcal-selestat.com
SUMMARY:Scrabble
DESCRIPTION:Afin d’organiser les séances\, nous vous prions de bien vouloir nous avertir de votre présence. \nCes jeux se déroulent de 14 heures à 18 heures \nAdresses : \n* Baudouin TRABAND – 4 rue Jean Jaurès 67600 SELESTAT – tél 03 88 92 91 30 / 06 09 30 31 89 \nBien cordialement.\nPour le Comité : Baudouin
URL:http://www.arcal-selestat.com/event/scrabble-17/
END:VEVENT
BEGIN:VEVENT
DTSTART;TZID=Europe/Helsinki:20251017T133000
DTEND;TZID=Europe/Helsinki:20251017T173000
DTSTAMP:20260420T013821
CREATED:20251016T124127Z
LAST-MODIFIED:20251016T124437Z
UID:23103-1760707800-1760722200@www.arcal-selestat.com
SUMMARY:Randonnées
DESCRIPTION:Rendez-vous à 13h30 au parking de covoiturage ou au Climont.\nCircuit autour de l’étang : le Hang. Départ au Climont\, par la ferme Abatteux et la ferme Caroline.\nDistance 10 km  dénivelé 240 m durée 3H participation 3€.\n\nLes personnes qui se rendent directement au lieu du départ réel de la randonnée sont priées de se renseigner si celle-ci est maintenue ou modifiée avec changement du lieu de départ.\n\nL’Arcal de Sélestat se réserve le droit d’annuler une sortie en proposant d’avancer à une date antérieure ou de reporter à une date ultérieure (Zone vigilance jaune\, orange et rouge\, fortes intempéries\, etc.). \n\nPour tout renseignement tél : 06.09.30.31.89\nBon week-end et à la semaine prochaine   Baudouin
URL:http://www.arcal-selestat.com/event/randonnees-40/
END:VEVENT
BEGIN:VEVENT
DTSTART;TZID=Europe/Helsinki:20251020T140000
DTEND;TZID=Europe/Helsinki:20251020T180000
DTSTAMP:20260420T013821
CREATED:20250930T153527Z
LAST-MODIFIED:20250930T153527Z
UID:23091-1760968800-1760983200@www.arcal-selestat.com
SUMMARY:Jeux de cartes (tarot et belote coinchée)
DESCRIPTION:Afin d’organiser les séances\, nous vous prions de bien vouloir nous avertir de votre présence. \nCes jeux se déroulent de 14 heures à 18 heures \nAdresses : \n* Baudouin TRABAND – 4 rue Jean Jaurès 67600 SELESTAT – tél 03 88 92 91 30 / 06 09 30 31 89 \nBien cordialement.\nPour le Comité : Baudouin
URL:http://www.arcal-selestat.com/event/jeux-de-cartes-tarot-et-belote-coinchee-38/
END:VEVENT
BEGIN:VEVENT
DTSTART;VALUE=DATE:20251023
DTEND;VALUE=DATE:20251024
DTSTAMP:20260420T013821
CREATED:20251020T101238Z
LAST-MODIFIED:20251020T101238Z
UID:23124-1761177600-1761263999@www.arcal-selestat.com
SUMMARY:LABONAL  &  Déjeuner  « Moules – Frites »
DESCRIPTION:9 h 30  Rendez-vous à l’espace covoiturage du Parking MATCH (covoiturage 2.50 €) \nou direct 10 h 00 LABONAL 13 route de Blienschwiller Dambach-la-ville \n12 h 30 : Visite guidée du site de production\, environ 1 h 30 puis passage à la boutique \nDéjeuner Restaurant BAUR 1 route de Barr ZELLWILLER\nApéritif (kir vin blanc)\nMenu :  Après-midi libre\nMoules – Frites (3 variantes)\nDessert\nEau ou Vin – Café\nPRIX par personne : 35 € boissons comprises
URL:http://www.arcal-selestat.com/event/labonal-dejeuner-moules-frites/
END:VEVENT
BEGIN:VEVENT
DTSTART;TZID=Europe/Helsinki:20251027T140000
DTEND;TZID=Europe/Helsinki:20251027T153000
DTSTAMP:20260420T013821
CREATED:20250930T153934Z
LAST-MODIFIED:20250930T153934Z
UID:23097-1761573600-1761579000@www.arcal-selestat.com
SUMMARY:Flâneries
DESCRIPTION:Les flâneries ont lieu le lundi après-midi à partir de 14H. \nLe lieu de rendez-vous est communiqué 15 jours avant par mail. \nIl s’agit d’une promenade de 3 à 5 km sans trop de dénivelé\, d’une durée d’1 H à 1 H30 en fonction des participants. \nL’Arcal de Sélestat se réserve le droit d’annuler une sortie en proposant d’avancer à une date antérieure ou de reporter à une date ultérieure (Zone vigilance jaune\, orange et rouge\, fortes intempéries\, etc.).
URL:http://www.arcal-selestat.com/event/flaneries-14/
END:VEVENT
END:VCALENDAR