BEGIN:VCALENDAR
VERSION:2.0
PRODID:-//Arcal Sélestat - ECPv6.15.14//NONSGML v1.0//EN
CALSCALE:GREGORIAN
METHOD:PUBLISH
X-WR-CALNAME:Arcal Sélestat
X-ORIGINAL-URL:http://www.arcal-selestat.com
X-WR-CALDESC:Évènements pour Arcal Sélestat
REFRESH-INTERVAL;VALUE=DURATION:PT1H
X-Robots-Tag:noindex
X-PUBLISHED-TTL:PT1H
BEGIN:VTIMEZONE
TZID:Europe/Helsinki
BEGIN:DAYLIGHT
TZOFFSETFROM:+0200
TZOFFSETTO:+0300
TZNAME:EEST
DTSTART:20240331T010000
END:DAYLIGHT
BEGIN:STANDARD
TZOFFSETFROM:+0300
TZOFFSETTO:+0200
TZNAME:EET
DTSTART:20241027T010000
END:STANDARD
BEGIN:DAYLIGHT
TZOFFSETFROM:+0200
TZOFFSETTO:+0300
TZNAME:EEST
DTSTART:20250330T010000
END:DAYLIGHT
BEGIN:STANDARD
TZOFFSETFROM:+0300
TZOFFSETTO:+0200
TZNAME:EET
DTSTART:20251026T010000
END:STANDARD
BEGIN:DAYLIGHT
TZOFFSETFROM:+0200
TZOFFSETTO:+0300
TZNAME:EEST
DTSTART:20260329T010000
END:DAYLIGHT
BEGIN:STANDARD
TZOFFSETFROM:+0300
TZOFFSETTO:+0200
TZNAME:EET
DTSTART:20261025T010000
END:STANDARD
END:VTIMEZONE
BEGIN:VEVENT
DTSTART;TZID=Europe/Helsinki:20250901T140000
DTEND;TZID=Europe/Helsinki:20250901T180000
DTSTAMP:20260420T031046
CREATED:20250825T112649Z
LAST-MODIFIED:20250825T112649Z
UID:23061-1756735200-1756749600@www.arcal-selestat.com
SUMMARY:Jeux de cartes (tarot et belote coinchée)
DESCRIPTION:Afin d’organiser les séances\, nous vous prions de bien vouloir nous avertir de votre présence. \nCes jeux se déroulent de 14 heures à 18 heures \nAdresses : \n* Baudouin TRABAND – 4 rue Jean Jaurès 67600 SELESTAT – tél 03 88 92 91 30 / 06 09 30 31 89 \nBien cordialement.\nPour le Comité : Baudouin
URL:http://www.arcal-selestat.com/event/jeux-de-cartes-tarot-et-belote-coinchee-34/
END:VEVENT
BEGIN:VEVENT
DTSTART;TZID=Europe/Helsinki:20250902T084500
DTEND;TZID=Europe/Helsinki:20250902T150000
DTSTAMP:20260420T031046
CREATED:20250807T161543Z
LAST-MODIFIED:20250807T161543Z
UID:23048-1756802700-1756825200@www.arcal-selestat.com
SUMMARY:La Maison de la choucroute à Meistratzheim
DESCRIPTION:8 h 45 Rendez-vous à l’espace covoiturage du Parking MATCH (3 € covoiturage)\nou 9 h 20 direct Maison LE PIC 1 rue Lehen à MEISTRATZHEIM\nAccueil et présentation de l’histoire familiale\, projection d’un film retraçant\nla culture du chou et la production de choucroute d’autrefois à aujourd’hui\nVisite des ateliers de fabrication à travers un circuit aménagé\nDécouverte du légume Choucroute et ses vertus\nDégustation de leurs produits phares.\n12 h 00 Restaurant Au Soleil 115 rue principale à VALFF
URL:http://www.arcal-selestat.com/event/la-maison-de-la-choucroute-a-meistratzheim/
END:VEVENT
BEGIN:VEVENT
DTSTART;TZID=Europe/Helsinki:20250915T140000
DTEND;TZID=Europe/Helsinki:20250915T180000
DTSTAMP:20260420T031046
CREATED:20250825T112808Z
LAST-MODIFIED:20250825T112808Z
UID:23063-1757944800-1757959200@www.arcal-selestat.com
SUMMARY:Jeux de cartes (tarot et belote coinchée)
DESCRIPTION:Afin d’organiser les séances\, nous vous prions de bien vouloir nous avertir de votre présence. \nCes jeux se déroulent de 14 heures à 18 heures \nAdresses : \n* Baudouin TRABAND – 4 rue Jean Jaurès 67600 SELESTAT – tél 03 88 92 91 30 / 06 09 30 31 89 \nBien cordialement.\nPour le Comité : Baudouin
URL:http://www.arcal-selestat.com/event/jeux-de-cartes-tarot-et-belote-coinchee-35/
END:VEVENT
BEGIN:VEVENT
DTSTART;TZID=Europe/Helsinki:20250916T140000
DTEND;TZID=Europe/Helsinki:20250916T180000
DTSTAMP:20260420T031046
CREATED:20250825T112954Z
LAST-MODIFIED:20250825T112954Z
UID:23067-1758031200-1758045600@www.arcal-selestat.com
SUMMARY:Scrabble
DESCRIPTION:Afin d’organiser les séances\, nous vous prions de bien vouloir nous avertir de votre présence. \nCes jeux se déroulent de 14 heures à 18 heures \nAdresses : \n* Baudouin TRABAND – 4 rue Jean Jaurès 67600 SELESTAT – tél 03 88 92 91 30 / 06 09 30 31 89 \nBien cordialement.\nPour le Comité : Baudouin
URL:http://www.arcal-selestat.com/event/scrabble-16/
END:VEVENT
BEGIN:VEVENT
DTSTART;TZID=Europe/Helsinki:20250919T133000
DTEND;TZID=Europe/Helsinki:20250919T173000
DTSTAMP:20260420T031046
CREATED:20250915T111636Z
LAST-MODIFIED:20250915T111636Z
UID:23077-1758288600-1758303000@www.arcal-selestat.com
SUMMARY:Randonnées
DESCRIPTION:Rendez-vous à 13h30 au parking de covoiturage ou au col du Kreuzweg . \nDescente vers la commune du Hohwald\, remonter vers le col de Bellevue\net retour par le chemin de Hirra ou Tyroliennes.\nDistance 10 km  dénivelé 250 m durée 2h30 à 3h. participation  2\,50 E\nPour tout renseignement tél : 0609303189\n\nL’Arcal de Sélestat se réserve le droit d’annuler une sortie en proposant d’avancer à une date antérieure ou de reporter à une date ultérieure (Zone vigilance jaune\, orange et rouge\, fortes intempéries\, etc.).\n\nBon week-end à tous à bientôt   Baudouin
URL:http://www.arcal-selestat.com/event/randonnees-38/
END:VEVENT
BEGIN:VEVENT
DTSTART;TZID=Europe/Helsinki:20250929T140000
DTEND;TZID=Europe/Helsinki:20250929T153000
DTSTAMP:20260420T031046
CREATED:20250930T153830Z
LAST-MODIFIED:20250930T153830Z
UID:23095-1759154400-1759159800@www.arcal-selestat.com
SUMMARY:Flâneries
DESCRIPTION:Les flâneries ont lieu le lundi après-midi à partir de 14H. \nLe lieu de rendez-vous est communiqué 15 jours avant par mail. \nIl s’agit d’une promenade de 3 à 5 km sans trop de dénivelé\, d’une durée d’1 H à 1 H30 en fonction des participants. \nL’Arcal de Sélestat se réserve le droit d’annuler une sortie en proposant d’avancer à une date antérieure ou de reporter à une date ultérieure (Zone vigilance jaune\, orange et rouge\, fortes intempéries\, etc.).
URL:http://www.arcal-selestat.com/event/flaneries-13/
END:VEVENT
BEGIN:VEVENT
DTSTART;TZID=Europe/Helsinki:20250929T140000
DTEND;TZID=Europe/Helsinki:20250929T180000
DTSTAMP:20260420T031046
CREATED:20250825T112903Z
LAST-MODIFIED:20250825T112903Z
UID:23065-1759154400-1759168800@www.arcal-selestat.com
SUMMARY:Jeux de cartes (tarot et belote coinchée)
DESCRIPTION:Afin d’organiser les séances\, nous vous prions de bien vouloir nous avertir de votre présence. \nCes jeux se déroulent de 14 heures à 18 heures \nAdresses : \n* Baudouin TRABAND – 4 rue Jean Jaurès 67600 SELESTAT – tél 03 88 92 91 30 / 06 09 30 31 89 \nBien cordialement.\nPour le Comité : Baudouin
URL:http://www.arcal-selestat.com/event/jeux-de-cartes-tarot-et-belote-coinchee-36/
END:VEVENT
END:VCALENDAR