BEGIN:VCALENDAR
VERSION:2.0
PRODID:-//Arcal Sélestat - ECPv6.15.14//NONSGML v1.0//EN
CALSCALE:GREGORIAN
METHOD:PUBLISH
X-ORIGINAL-URL:http://www.arcal-selestat.com
X-WR-CALDESC:Évènements pour Arcal Sélestat
REFRESH-INTERVAL;VALUE=DURATION:PT1H
X-Robots-Tag:noindex
X-PUBLISHED-TTL:PT1H
BEGIN:VTIMEZONE
TZID:Europe/Helsinki
BEGIN:DAYLIGHT
TZOFFSETFROM:+0200
TZOFFSETTO:+0300
TZNAME:EEST
DTSTART:20240331T010000
END:DAYLIGHT
BEGIN:STANDARD
TZOFFSETFROM:+0300
TZOFFSETTO:+0200
TZNAME:EET
DTSTART:20241027T010000
END:STANDARD
BEGIN:DAYLIGHT
TZOFFSETFROM:+0200
TZOFFSETTO:+0300
TZNAME:EEST
DTSTART:20250330T010000
END:DAYLIGHT
BEGIN:STANDARD
TZOFFSETFROM:+0300
TZOFFSETTO:+0200
TZNAME:EET
DTSTART:20251026T010000
END:STANDARD
BEGIN:DAYLIGHT
TZOFFSETFROM:+0200
TZOFFSETTO:+0300
TZNAME:EEST
DTSTART:20260329T010000
END:DAYLIGHT
BEGIN:STANDARD
TZOFFSETFROM:+0300
TZOFFSETTO:+0200
TZNAME:EET
DTSTART:20261025T010000
END:STANDARD
END:VTIMEZONE
BEGIN:VEVENT
DTSTART;TZID=Europe/Helsinki:20250710T163000
DTEND;TZID=Europe/Helsinki:20250710T213000
DTSTAMP:20260420T063101
CREATED:20250526T091336Z
LAST-MODIFIED:20250526T091336Z
UID:23012-1752165000-1752183000@www.arcal-selestat.com
SUMMARY:Conférence-information Gestes et Postures
DESCRIPTION:suivie d’un diner « tarte flambée »\n16 h 30 Rendez-vous à la salle du Club Vosgien 45 rue des Chevaliers à Sélestat \nDémonstration par Madame VOEKLER (Fédération française sport pour tous)\nSéance explicative d’une durée de 1 à 2 heures sur les thèmes suivants :\n– Comment garder l’équilibre en tournant la tête\n– Comment monter la jambe sur un trottoir\n– Quelles chaussures porter\n– Enlever les tapis … \n19 h 00 Diner Brasserie « L’ancienne douane » (au-dessus du Bowling Rte de Colmar)\nAccès pour les personnes à mobilité réduite sur le côté entre Bowling et Hôtel \nMenu : Tarte flambée\nDessert : Tarte du jour OU Vacherin glacé OU Glace 3 boules
URL:http://www.arcal-selestat.com/event/conference-information-gestes-et-postures/
END:VEVENT
END:VCALENDAR