BEGIN:VCALENDAR
VERSION:2.0
PRODID:-//Arcal Sélestat - ECPv6.15.14//NONSGML v1.0//EN
CALSCALE:GREGORIAN
METHOD:PUBLISH
X-ORIGINAL-URL:http://www.arcal-selestat.com
X-WR-CALDESC:Évènements pour Arcal Sélestat
REFRESH-INTERVAL;VALUE=DURATION:PT1H
X-Robots-Tag:noindex
X-PUBLISHED-TTL:PT1H
BEGIN:VTIMEZONE
TZID:Europe/Helsinki
BEGIN:DAYLIGHT
TZOFFSETFROM:+0200
TZOFFSETTO:+0300
TZNAME:EEST
DTSTART:20240331T010000
END:DAYLIGHT
BEGIN:STANDARD
TZOFFSETFROM:+0300
TZOFFSETTO:+0200
TZNAME:EET
DTSTART:20241027T010000
END:STANDARD
BEGIN:DAYLIGHT
TZOFFSETFROM:+0200
TZOFFSETTO:+0300
TZNAME:EEST
DTSTART:20250330T010000
END:DAYLIGHT
BEGIN:STANDARD
TZOFFSETFROM:+0300
TZOFFSETTO:+0200
TZNAME:EET
DTSTART:20251026T010000
END:STANDARD
BEGIN:DAYLIGHT
TZOFFSETFROM:+0200
TZOFFSETTO:+0300
TZNAME:EEST
DTSTART:20260329T010000
END:DAYLIGHT
BEGIN:STANDARD
TZOFFSETFROM:+0300
TZOFFSETTO:+0200
TZNAME:EET
DTSTART:20261025T010000
END:STANDARD
END:VTIMEZONE
BEGIN:VEVENT
DTSTART;TZID=Europe/Helsinki:20250113T140000
DTEND;TZID=Europe/Helsinki:20250113T180000
DTSTAMP:20260420T155406
CREATED:20241217T123913Z
LAST-MODIFIED:20250105T173341Z
UID:22809-1736776800-1736791200@www.arcal-selestat.com
SUMMARY:Jeux de cartes (tarot et belote coinchée)
DESCRIPTION:Afin d’organiser les séances\, nous vous prions de bien vouloir nous avertir de votre présence. \nCes jeux se déroulent de 14 heures à 18 heures \nAdresses : \n* Baudouin TRABAND – 4 rue Jean Jaurès 67600 SELESTAT – tél 03 88 92 91 30 / 06 09 30 31 89 \nBien cordialement.\nPour le Comité : Baudouin
URL:http://www.arcal-selestat.com/event/jeux-de-cartes-tarot-et-belote-coinchee-21/
END:VEVENT
BEGIN:VEVENT
DTSTART;TZID=Europe/Helsinki:20250114T140000
DTEND;TZID=Europe/Helsinki:20250114T180000
DTSTAMP:20260420T155406
CREATED:20241217T124215Z
LAST-MODIFIED:20241217T124347Z
UID:22811-1736863200-1736877600@www.arcal-selestat.com
SUMMARY:Scrabble
DESCRIPTION:Afin d’organiser les séances\, nous vous prions de bien vouloir nous avertir de votre présence. \nCes jeux se déroulent de 14 heures à 18 heures \nAdresses : \n* Baudouin TRABAND – 4 rue Jean Jaurès 67600 SELESTAT – tél 03 88 92 91 30 / 06 09 30 31 89 \nBien cordialement.\nPour le Comité : Baudouin
URL:http://www.arcal-selestat.com/event/scrabble-10/
END:VEVENT
BEGIN:VEVENT
DTSTART;TZID=Europe/Helsinki:20250115T140000
DTEND;TZID=Europe/Helsinki:20250115T170000
DTSTAMP:20260420T155406
CREATED:20241217T124314Z
LAST-MODIFIED:20241217T124314Z
UID:22813-1736949600-1736960400@www.arcal-selestat.com
SUMMARY:Réunion du Comité
DESCRIPTION:Local Club Vosgien
URL:http://www.arcal-selestat.com/event/reunion-du-comite-9/
END:VEVENT
BEGIN:VEVENT
DTSTART;TZID=Europe/Helsinki:20250116T094500
DTEND;TZID=Europe/Helsinki:20250116T150000
DTSTAMP:20260420T155406
CREATED:20241217T130214Z
LAST-MODIFIED:20241217T130214Z
UID:22825-1737020700-1737039600@www.arcal-selestat.com
SUMMARY:Repas galette
DESCRIPTION:10 h 00 Nous vous proposons la visite de la nouvelle caserne des Sapeurs-Pompiers de Sélestat ;\nRendez vous à 9h45 Rue de Morat\n12 h 00 : Nous nous rendrons au Restaurant Les Humanistes (Hôtel Best Western)\nMenu : 3 plats\nL’œuf à 64 degrés\, émulsion de cèpes\, tombée de jeunes pousses d’épinard et châtaigne grillée\nPaleron de veau braisé 16 heures\, dampfnudle de nos grands-mères\, sauce aux girolles et poêlée de topinambour\naux noisettes torréfiés\nLa délicieuse traditionnelle galette des rois et sa boule de glace.
URL:http://www.arcal-selestat.com/event/repas-galette/
END:VEVENT
BEGIN:VEVENT
DTSTART;TZID=Europe/Helsinki:20250120T140000
DTEND;TZID=Europe/Helsinki:20250120T180000
DTSTAMP:20260420T155406
CREATED:20241217T125134Z
LAST-MODIFIED:20241217T125134Z
UID:22821-1737381600-1737396000@www.arcal-selestat.com
SUMMARY:Jeux de cartes (tarot et belote coinchée)
DESCRIPTION:Afin d’organiser les séances\, nous vous prions de bien vouloir nous avertir de votre présence. \nCes jeux se déroulent de 14 heures à 18 heures \nAdresses : \n* Baudouin TRABAND – 4 rue Jean Jaurès 67600 SELESTAT – tél 03 88 92 91 30 / 06 09 30 31 89 \nBien cordialement.\nPour le Comité : Baudouin
URL:http://www.arcal-selestat.com/event/jeux-de-cartes-tarot-et-belote-coinchee-23/
END:VEVENT
BEGIN:VEVENT
DTSTART;TZID=Europe/Helsinki:20250127T140000
DTEND;TZID=Europe/Helsinki:20250127T160000
DTSTAMP:20260420T155406
CREATED:20241217T125829Z
LAST-MODIFIED:20241217T125829Z
UID:22823-1737986400-1737993600@www.arcal-selestat.com
SUMMARY:Flâneries
DESCRIPTION:Les flâneries ont lieu le lundi après-midi à partir de 14H. \nLe lieu de rendez-vous est communiqué 15 jours avant par mail. \nIl s’agit d’une promenade de 3 à 5 km sans trop de dénivelé\, d’une durée d’1 H à 1 H30 en fonction des participants. \nL’Arcal de Sélestat se réserve le droit d’annuler une sortie en proposant d’avancer à une date antérieure ou de reporter à une date ultérieure (Zone vigilance jaune\, orange et rouge\, fortes intempéries\, etc.).
URL:http://www.arcal-selestat.com/event/flaneries-7/
END:VEVENT
END:VCALENDAR