BEGIN:VCALENDAR
VERSION:2.0
PRODID:-//Arcal Sélestat - ECPv6.15.14//NONSGML v1.0//EN
CALSCALE:GREGORIAN
METHOD:PUBLISH
X-ORIGINAL-URL:http://www.arcal-selestat.com
X-WR-CALDESC:Évènements pour Arcal Sélestat
REFRESH-INTERVAL;VALUE=DURATION:PT1H
X-Robots-Tag:noindex
X-PUBLISHED-TTL:PT1H
BEGIN:VTIMEZONE
TZID:Europe/Helsinki
BEGIN:DAYLIGHT
TZOFFSETFROM:+0200
TZOFFSETTO:+0300
TZNAME:EEST
DTSTART:20230326T010000
END:DAYLIGHT
BEGIN:STANDARD
TZOFFSETFROM:+0300
TZOFFSETTO:+0200
TZNAME:EET
DTSTART:20231029T010000
END:STANDARD
BEGIN:DAYLIGHT
TZOFFSETFROM:+0200
TZOFFSETTO:+0300
TZNAME:EEST
DTSTART:20240331T010000
END:DAYLIGHT
BEGIN:STANDARD
TZOFFSETFROM:+0300
TZOFFSETTO:+0200
TZNAME:EET
DTSTART:20241027T010000
END:STANDARD
BEGIN:DAYLIGHT
TZOFFSETFROM:+0200
TZOFFSETTO:+0300
TZNAME:EEST
DTSTART:20250330T010000
END:DAYLIGHT
BEGIN:STANDARD
TZOFFSETFROM:+0300
TZOFFSETTO:+0200
TZNAME:EET
DTSTART:20251026T010000
END:STANDARD
END:VTIMEZONE
BEGIN:VEVENT
DTSTART;TZID=Europe/Helsinki:20241104T140000
DTEND;TZID=Europe/Helsinki:20241104T160000
DTSTAMP:20260420T185645
CREATED:20240506T083913Z
LAST-MODIFIED:20240506T083913Z
UID:22596-1730728800-1730736000@www.arcal-selestat.com
SUMMARY:Flâneries
DESCRIPTION:
URL:http://www.arcal-selestat.com/event/flaneries-5/
END:VEVENT
BEGIN:VEVENT
DTSTART;TZID=Europe/Helsinki:20241108T133000
DTEND;TZID=Europe/Helsinki:20241108T173000
DTSTAMP:20260420T185645
CREATED:20240106T165615Z
LAST-MODIFIED:20241107T191310Z
UID:22348-1731072600-1731087000@www.arcal-selestat.com
SUMMARY:Randonnée
DESCRIPTION:Rendez-vous à 13h30 au parking de covoiturage du Match.\nPoint de départ à la HURST pour emprunter la route forestière de la Liepvrette \, puis monter jusqu’à LA VANCELLE et retour en passant par le Heyrisheck.\nDistance 9\,8 km  dénivelé 207m  durée 3 hrs participation 1 euro\nLes personnes qui se rendent directement au lieu du départ réel de la randonnée sont priées de se renseigner si celle-ci est maintenue ou modifiée avec changement du lieu de départ. \nL’Arcal de Sélestat se réserve le droit d’annuler une sortie en proposant d’avancer à une date antérieure ou de reporter à une date ultérieure (Zone vigilance jaune\, orange et rouge\, fortes intempéries\, etc.). \nPour tous renseignements : \nBaudouin TRABAND Tél : 03 88 92 91 30 ou 06 09 30 31 89 ou mail à randoselarcal67@gmail.com
URL:http://www.arcal-selestat.com/event/randonnee-20/
END:VEVENT
BEGIN:VEVENT
DTSTART;VALUE=DATE:20241115
DTEND;VALUE=DATE:20241116
DTSTAMP:20260420T185645
CREATED:20240706T121952Z
LAST-MODIFIED:20240706T121952Z
UID:22669-1731628800-1731715199@www.arcal-selestat.com
SUMMARY:Cochonnailles
DESCRIPTION:
URL:http://www.arcal-selestat.com/event/cochonnailles/
END:VEVENT
BEGIN:VEVENT
DTSTART;TZID=Europe/Helsinki:20241122T133000
DTEND;TZID=Europe/Helsinki:20241122T173000
DTSTAMP:20260420T185645
CREATED:20240106T165657Z
LAST-MODIFIED:20241117T185329Z
UID:22350-1732282200-1732296600@www.arcal-selestat.com
SUMMARY:Randonnée
DESCRIPTION:Baudouin vous propose un circuit à travers le vignoble.\nDépart de Scherwiller en direction de la Huehnelmuehl\, ensuite jusqu’à Dieffenthal et retour par la route cyclable.\nDistance 8\,8 km dénivelé 140 m  durée 2h30 participation 0\,50€.\n\nRendez-vous au parking de covoiturage du Match à 13h30.\nLes personnes qui se rendent directement au lieu du départ réel de la randonnée sont priées de se renseigner si celle-ci est maintenue ou modifiée avec changement du lieu de départ. \nL’Arcal de Sélestat se réserve le droit d’annuler une sortie en proposant d’avancer à une date antérieure ou de reporter à une date ultérieure (Zone vigilance jaune\, orange et rouge\, fortes intempéries\, etc.). \nPour tous renseignements : \nBaudouin TRABAND Tél : 06 09 30 31 89 ou mail à randoselarcal67@gmail.com
URL:http://www.arcal-selestat.com/event/randonnee-21/
END:VEVENT
END:VCALENDAR