BEGIN:VCALENDAR
VERSION:2.0
PRODID:-//Arcal Sélestat - ECPv6.15.14//NONSGML v1.0//EN
CALSCALE:GREGORIAN
METHOD:PUBLISH
X-ORIGINAL-URL:http://www.arcal-selestat.com
X-WR-CALDESC:Évènements pour Arcal Sélestat
REFRESH-INTERVAL;VALUE=DURATION:PT1H
X-Robots-Tag:noindex
X-PUBLISHED-TTL:PT1H
BEGIN:VTIMEZONE
TZID:Europe/Helsinki
BEGIN:DAYLIGHT
TZOFFSETFROM:+0200
TZOFFSETTO:+0300
TZNAME:EEST
DTSTART:20230326T010000
END:DAYLIGHT
BEGIN:STANDARD
TZOFFSETFROM:+0300
TZOFFSETTO:+0200
TZNAME:EET
DTSTART:20231029T010000
END:STANDARD
BEGIN:DAYLIGHT
TZOFFSETFROM:+0200
TZOFFSETTO:+0300
TZNAME:EEST
DTSTART:20240331T010000
END:DAYLIGHT
BEGIN:STANDARD
TZOFFSETFROM:+0300
TZOFFSETTO:+0200
TZNAME:EET
DTSTART:20241027T010000
END:STANDARD
BEGIN:DAYLIGHT
TZOFFSETFROM:+0200
TZOFFSETTO:+0300
TZNAME:EEST
DTSTART:20250330T010000
END:DAYLIGHT
BEGIN:STANDARD
TZOFFSETFROM:+0300
TZOFFSETTO:+0200
TZNAME:EET
DTSTART:20251026T010000
END:STANDARD
END:VTIMEZONE
BEGIN:VEVENT
DTSTART;VALUE=DATE:20241003
DTEND;VALUE=DATE:20241004
DTSTAMP:20260420T202447
CREATED:20240706T121410Z
LAST-MODIFIED:20240706T121410Z
UID:22663-1727913600-1727999999@www.arcal-selestat.com
SUMMARY:Sortie à Gunsbach.
DESCRIPTION:Visite de la maison d’Albert SCHWEITZER –\net repas – L’après-midi : visite de la maison du fromage..
URL:http://www.arcal-selestat.com/event/sortie-a-gunsbach/
END:VEVENT
BEGIN:VEVENT
DTSTART;TZID=Europe/Helsinki:20241004T133000
DTEND;TZID=Europe/Helsinki:20241004T173000
DTSTAMP:20260420T202447
CREATED:20240106T165442Z
LAST-MODIFIED:20241001T120518Z
UID:22344-1728048600-1728063000@www.arcal-selestat.com
SUMMARY:Randonnée
DESCRIPTION:Rendez-vous à 13h30 au parking covoiturage du Match ou au parking du col du Kreuzweg pour un circuit au départ du parc des Tyroliennes ou chemin de Hirra – vers le col de Bellevue – descente sur Le Hohwald et retour vers le Kreuzweg. \nDistance 10 km  dénivelé 250 m  durée 3 H   participation covoiturage 2 euro 50 \nLes personnes qui se rendent directement au lieu du départ réel de la randonnée sont priées de se renseigner si celle-ci est maintenue ou modifiée avec changement du lieu de départ. \nL’Arcal de Sélestat se réserve le droit d’annuler une sortie en proposant d’avancer à une date antérieure ou de reporter à une date ultérieure (Zone vigilance jaune\, orange et rouge\, fortes intempéries\, etc.). \nPour tous renseignements : \nBaudouin TRABAND Tél : 03 88 92 91 30 ou 06 09 30 31 89 ou mail à randoselarcal67@gmail.com
URL:http://www.arcal-selestat.com/event/randonnee-18/
END:VEVENT
BEGIN:VEVENT
DTSTART;TZID=Europe/Helsinki:20241007T140000
DTEND;TZID=Europe/Helsinki:20241007T160000
DTSTAMP:20260420T202448
CREATED:20240506T083833Z
LAST-MODIFIED:20240506T083833Z
UID:22594-1728309600-1728316800@www.arcal-selestat.com
SUMMARY:Flâneries
DESCRIPTION:
URL:http://www.arcal-selestat.com/event/flaneries-4/
END:VEVENT
BEGIN:VEVENT
DTSTART;TZID=Europe/Helsinki:20241018T180000
DTEND;TZID=Europe/Helsinki:20241018T203000
DTSTAMP:20260420T202448
CREATED:20240706T121651Z
LAST-MODIFIED:20240706T121850Z
UID:22665-1729274400-1729283400@www.arcal-selestat.com
SUMMARY:Conférence sur la Santé du Sein
DESCRIPTION:Par la Professeure Carole Mathelin et avec l’association SEVE \nà partir de 18H – Salle de Conférence – Salle Sainte Barbe.
URL:http://www.arcal-selestat.com/event/conference-sur-la-sante-du-sein/
END:VEVENT
BEGIN:VEVENT
DTSTART;TZID=Europe/Helsinki:20241024T120000
DTEND;TZID=Europe/Helsinki:20241024T150000
DTSTAMP:20260420T202448
CREATED:20240706T121923Z
LAST-MODIFIED:20240706T121923Z
UID:22667-1729771200-1729782000@www.arcal-selestat.com
SUMMARY:Déjeuner Moules
DESCRIPTION:
URL:http://www.arcal-selestat.com/event/dejeuner-moules/
END:VEVENT
BEGIN:VEVENT
DTSTART;TZID=Europe/Helsinki:20241025T133000
DTEND;TZID=Europe/Helsinki:20241025T173000
DTSTAMP:20260420T202448
CREATED:20240106T165526Z
LAST-MODIFIED:20241021T155538Z
UID:22346-1729863000-1729877400@www.arcal-selestat.com
SUMMARY:Randonnée
DESCRIPTION:Rendez-vous à 13h30 au parking covoiturage du Match ou au parking de la montagne des singes. \nLe circuit se fera dans le massif du Haut Koenigsbourg\, par le Kreuzweg\, l’abri pain d’épices\, le carrefour Totermann\, le carrefour Adler et retour. \n\n\n\n\n\nDistance 7\,8 km  dénivelé 230 m  durée 2h30 participation 0\,50 euro.\n\n\nLes personnes qui se rendent directement au lieu du départ réel de la randonnée sont priées de se renseigner si celle-ci est maintenue ou modifiée avec changement du lieu de départ.\n\n\n\n\nL’Arcal de Sélestat se réserve le droit d’annuler une sortie en proposant d’avancer à une date antérieure ou de reporter à une date ultérieure (Zone vigilance jaune\, orange et rouge\, fortes intempéries\, etc.). \nPour tous renseignements : \nBaudouin TRABAND Tél : 03 88 92 91 30 ou 06 09 30 31 89 ou mail à randoselarcal67@gmail.com
URL:http://www.arcal-selestat.com/event/randonnee-19/
END:VEVENT
END:VCALENDAR