BEGIN:VCALENDAR
VERSION:2.0
PRODID:-//Arcal Sélestat - ECPv6.15.14//NONSGML v1.0//EN
CALSCALE:GREGORIAN
METHOD:PUBLISH
X-WR-CALNAME:Arcal Sélestat
X-ORIGINAL-URL:http://www.arcal-selestat.com
X-WR-CALDESC:Évènements pour Arcal Sélestat
REFRESH-INTERVAL;VALUE=DURATION:PT1H
X-Robots-Tag:noindex
X-PUBLISHED-TTL:PT1H
BEGIN:VTIMEZONE
TZID:Europe/Helsinki
BEGIN:DAYLIGHT
TZOFFSETFROM:+0200
TZOFFSETTO:+0300
TZNAME:EEST
DTSTART:20230326T010000
END:DAYLIGHT
BEGIN:STANDARD
TZOFFSETFROM:+0300
TZOFFSETTO:+0200
TZNAME:EET
DTSTART:20231029T010000
END:STANDARD
BEGIN:DAYLIGHT
TZOFFSETFROM:+0200
TZOFFSETTO:+0300
TZNAME:EEST
DTSTART:20240331T010000
END:DAYLIGHT
BEGIN:STANDARD
TZOFFSETFROM:+0300
TZOFFSETTO:+0200
TZNAME:EET
DTSTART:20241027T010000
END:STANDARD
BEGIN:DAYLIGHT
TZOFFSETFROM:+0200
TZOFFSETTO:+0300
TZNAME:EEST
DTSTART:20250330T010000
END:DAYLIGHT
BEGIN:STANDARD
TZOFFSETFROM:+0300
TZOFFSETTO:+0200
TZNAME:EET
DTSTART:20251026T010000
END:STANDARD
END:VTIMEZONE
BEGIN:VEVENT
DTSTART;TZID=Europe/Helsinki:20240805T140000
DTEND;TZID=Europe/Helsinki:20240805T180000
DTSTAMP:20260420T232057
CREATED:20240506T082207Z
LAST-MODIFIED:20240506T082207Z
UID:22569-1722866400-1722880800@www.arcal-selestat.com
SUMMARY:Jeux de cartes (tarot et belote coinchée)
DESCRIPTION:Afin d’organiser les séances\, nous vous prions de bien vouloir nous avertir de votre présence.\nCes jeux se déroulent de 14 heures à 18 heures\n25 boulevard Amey\nSELESTAT\ntél 03 88 82 56 13\nBien cordialement. \npour le Comité : Ghislaine Durand
URL:http://www.arcal-selestat.com/event/jeux-de-cartes-tarot-et-belote-coinchee-13/
END:VEVENT
BEGIN:VEVENT
DTSTART;VALUE=DATE:20240808
DTEND;VALUE=DATE:20240809
DTSTAMP:20260420T232057
CREATED:20240625T113936Z
LAST-MODIFIED:20240706T122609Z
UID:22650-1723075200-1723161599@www.arcal-selestat.com
SUMMARY:Barbecue avec l’ARCAL Colmar à la Canardière et animation musicale
DESCRIPTION:
URL:http://www.arcal-selestat.com/event/pique-nique-avec-larcal-colmar-a-la-canardiere-et-animation-musicale/
END:VEVENT
BEGIN:VEVENT
DTSTART;TZID=Europe/Helsinki:20240813T140000
DTEND;TZID=Europe/Helsinki:20240813T180000
DTSTAMP:20260420T232057
CREATED:20240506T085740Z
LAST-MODIFIED:20240506T085740Z
UID:22612-1723557600-1723572000@www.arcal-selestat.com
SUMMARY:Scrabble
DESCRIPTION:Afin d’organiser les séances\, nous vous prions de bien vouloir nous avertir de votre présence. \nCes jeux se déroulent de 14 heures à 18 heures \nAdresses : \n* Ghislaine DURAND – 25 boulevard Amey 67600 SELESTAT – tél 03 88 82 56 13 \nBien cordialement. \nGhislaine DURAND
URL:http://www.arcal-selestat.com/event/scrabble-8/
END:VEVENT
BEGIN:VEVENT
DTSTART;TZID=Europe/Helsinki:20240819T140000
DTEND;TZID=Europe/Helsinki:20240819T180000
DTSTAMP:20260420T232057
CREATED:20240506T082307Z
LAST-MODIFIED:20240506T082307Z
UID:22571-1724076000-1724090400@www.arcal-selestat.com
SUMMARY:Jeux de cartes (tarot et belote coinchée)
DESCRIPTION:Afin d’organiser les séances\, nous vous prions de bien vouloir nous avertir de votre présence.\nCes jeux se déroulent de 14 heures à 18 heures\n25 boulevard Amey\nSELESTAT\ntél 03 88 82 56 13\nBien cordialement. \npour le Comité : Ghislaine Durand
URL:http://www.arcal-selestat.com/event/jeux-de-cartes-tarot-et-belote-coinchee-14/
END:VEVENT
BEGIN:VEVENT
DTSTART;TZID=Europe/Helsinki:20240821T170000
DTEND;TZID=Europe/Helsinki:20240821T210000
DTSTAMP:20260420T232057
CREATED:20240625T113726Z
LAST-MODIFIED:20240625T113726Z
UID:22647-1724259600-1724274000@www.arcal-selestat.com
SUMMARY:Sortie Zythologie (ou Biérologie)
DESCRIPTION:chez Guth à Triembach au Val\nVisite d’une micro brasserie ½ h explications\, ½h Dégustation de 4 bières\navec tartes flambées le soir
URL:http://www.arcal-selestat.com/event/sortie-zythologie-ou-bierologie/
END:VEVENT
END:VCALENDAR