BEGIN:VCALENDAR
VERSION:2.0
PRODID:-//Arcal Sélestat - ECPv6.15.14//NONSGML v1.0//EN
CALSCALE:GREGORIAN
METHOD:PUBLISH
X-WR-CALNAME:Arcal Sélestat
X-ORIGINAL-URL:http://www.arcal-selestat.com
X-WR-CALDESC:Évènements pour Arcal Sélestat
REFRESH-INTERVAL;VALUE=DURATION:PT1H
X-Robots-Tag:noindex
X-PUBLISHED-TTL:PT1H
BEGIN:VTIMEZONE
TZID:Europe/Helsinki
BEGIN:DAYLIGHT
TZOFFSETFROM:+0200
TZOFFSETTO:+0300
TZNAME:EEST
DTSTART:20230326T010000
END:DAYLIGHT
BEGIN:STANDARD
TZOFFSETFROM:+0300
TZOFFSETTO:+0200
TZNAME:EET
DTSTART:20231029T010000
END:STANDARD
BEGIN:DAYLIGHT
TZOFFSETFROM:+0200
TZOFFSETTO:+0300
TZNAME:EEST
DTSTART:20240331T010000
END:DAYLIGHT
BEGIN:STANDARD
TZOFFSETFROM:+0300
TZOFFSETTO:+0200
TZNAME:EET
DTSTART:20241027T010000
END:STANDARD
BEGIN:DAYLIGHT
TZOFFSETFROM:+0200
TZOFFSETTO:+0300
TZNAME:EEST
DTSTART:20250330T010000
END:DAYLIGHT
BEGIN:STANDARD
TZOFFSETFROM:+0300
TZOFFSETTO:+0200
TZNAME:EET
DTSTART:20251026T010000
END:STANDARD
END:VTIMEZONE
BEGIN:VEVENT
DTSTART;TZID=Europe/Helsinki:20240405T133000
DTEND;TZID=Europe/Helsinki:20240405T173000
DTSTAMP:20260421T052311
CREATED:20231227T194147Z
LAST-MODIFIED:20240331T075817Z
UID:22321-1712323800-1712338200@www.arcal-selestat.com
SUMMARY:Randonnée
DESCRIPTION:Rendez-vous à 13h30 au parking covoiturage du Match. \nRendez-vous à 13h30 au parking covoiturage du Match ou au point de départ à HIRZELBACH. Le circuit se fera en direction de Breitenau\, ensuite vers Neuve Église et retour par la chapelle Rennfeld. \nDistance 8\,6km  dénivelé 220 m  durée 2h30  participation 1 Euro \nLes personnes qui se rendent directement au lieu du départ réel de la randonnée sont priées de se renseigner si celle-ci est maintenue ou modifiée avec changement du lieu de départ. \nL’Arcal de Sélestat se réserve le droit d’annuler une sortie en proposant d’avancer à une date antérieure ou de reporter à une date ultérieure (Zone vigilance jaune\, orange et rouge\, fortes intempéries\, etc.). \nPour tout renseignement complémentaire tél : 0609303189 \nBon week-end Pascal à tous   Baudouin \n 
URL:http://www.arcal-selestat.com/event/randonnee-7/
END:VEVENT
BEGIN:VEVENT
DTSTART;TZID=Europe/Helsinki:20240408T140000
DTEND;TZID=Europe/Helsinki:20240408T180000
DTSTAMP:20260421T052311
CREATED:20231227T181229Z
LAST-MODIFIED:20231227T181426Z
UID:22291-1712584800-1712599200@www.arcal-selestat.com
SUMMARY:Jeux de cartes (tarot et belote coinchée)
DESCRIPTION:Afin d’organiser les séances\, nous vous prions de bien vouloir nous avertir de votre présence.\nCes jeux se déroulent de 14 heures à 18 heures \n25 boulevard Amey\nSELESTAT\ntél 03 88 82 56 13\nBien cordialement.\n \n pour le Comité : Ghislaine Durand
URL:http://www.arcal-selestat.com/event/jeux-de-cartes-tarot-et-belote-coinchee-7/
END:VEVENT
BEGIN:VEVENT
DTSTART;TZID=Europe/Helsinki:20240409T140000
DTEND;TZID=Europe/Helsinki:20240409T180000
DTSTAMP:20260421T052311
CREATED:20240506T084353Z
LAST-MODIFIED:20240506T084353Z
UID:22600-1712671200-1712685600@www.arcal-selestat.com
SUMMARY:Club de Lecture
DESCRIPTION:Le club de lecture se déroule de 14 heures à 18 heures\n25 boulevard Amey\nSELESTAT\ntél 03 88 82 56 13\nBien cordialement. \npour le Comité : Ghislaine Durand
URL:http://www.arcal-selestat.com/event/club-de-lecture/
END:VEVENT
BEGIN:VEVENT
DTSTART;TZID=Europe/Helsinki:20240416T140000
DTEND;TZID=Europe/Helsinki:20240416T180000
DTSTAMP:20260421T052311
CREATED:20231227T180645Z
LAST-MODIFIED:20231227T180645Z
UID:22277-1713276000-1713290400@www.arcal-selestat.com
SUMMARY:Scrabble
DESCRIPTION:Afin d’organiser les séances\, nous vous prions de bien vouloir nous avertir de votre présence.\nCes jeux se déroulent de 14 heures à 18 heures \n25 boulevard Amey\nSELESTAT\ntél 03 88 82 56 13\nBien cordialement.\n \n pour le Comité : Ghislaine Durand
URL:http://www.arcal-selestat.com/event/scrabble-4/
END:VEVENT
BEGIN:VEVENT
DTSTART;TZID=Europe/Helsinki:20240422T140000
DTEND;TZID=Europe/Helsinki:20240422T180000
DTSTAMP:20260421T052311
CREATED:20231227T181300Z
LAST-MODIFIED:20231227T181358Z
UID:22293-1713794400-1713808800@www.arcal-selestat.com
SUMMARY:Jeux de cartes (tarot et belote coinchée)
DESCRIPTION:Afin d’organiser les séances\, nous vous prions de bien vouloir nous avertir de votre présence.\nCes jeux se déroulent de 14 heures à 18 heures \n25 boulevard Amey\nSELESTAT\ntél 03 88 82 56 13\nBien cordialement.\n \n pour le Comité : Ghislaine Durand
URL:http://www.arcal-selestat.com/event/jeux-de-cartes-tarot-et-belote-coinchee-8/
END:VEVENT
BEGIN:VEVENT
DTSTART;TZID=Europe/Helsinki:20240426T133000
DTEND;TZID=Europe/Helsinki:20240426T173000
DTSTAMP:20260421T052311
CREATED:20240106T164841Z
LAST-MODIFIED:20240419T092104Z
UID:22328-1714138200-1714152600@www.arcal-selestat.com
SUMMARY:Randonnée
DESCRIPTION:Rendez-vous à 13h30 au parking covoiturage du Match ou au point de\ndépart au Schulwaldplatz. Nous prendrons le chemin forestier du Dachborn\net monterons ensuite vers le rocher du Falkenstein\, puis passerons par le rocher Engelsfelsen et\,rejoindre le carrefour Krieghurst  et retour par le chemin forestier\nen contrebas du Bernstein.\nDistance 9\,7 km  dénivelé 280 m durée 3h   participation 2 euros\nLes personnes qui se rendent directement au lieu du départ réel de la randonnée sont priées de se renseigner si celle-ci est maintenue ou modifiée avec changement du lieu de départ. \nL’Arcal de Sélestat se réserve le droit d’annuler une sortie en proposant d’avancer à une date antérieure ou de reporter à une date ultérieure (Zone vigilance jaune\, orange et rouge\, fortes intempéries\, etc.). \nPour tous renseignements : \nBaudouin TRABAND Tél : 06 09 30 31 89 ou mail à randoselarcal67@gmail.com
URL:http://www.arcal-selestat.com/event/randonnee-10/
END:VEVENT
END:VCALENDAR