BEGIN:VCALENDAR
VERSION:2.0
PRODID:-//Arcal Sélestat - ECPv6.15.14//NONSGML v1.0//EN
CALSCALE:GREGORIAN
METHOD:PUBLISH
X-WR-CALNAME:Arcal Sélestat
X-ORIGINAL-URL:http://www.arcal-selestat.com
X-WR-CALDESC:Évènements pour Arcal Sélestat
REFRESH-INTERVAL;VALUE=DURATION:PT1H
X-Robots-Tag:noindex
X-PUBLISHED-TTL:PT1H
BEGIN:VTIMEZONE
TZID:Europe/Helsinki
BEGIN:DAYLIGHT
TZOFFSETFROM:+0200
TZOFFSETTO:+0300
TZNAME:EEST
DTSTART:20230326T010000
END:DAYLIGHT
BEGIN:STANDARD
TZOFFSETFROM:+0300
TZOFFSETTO:+0200
TZNAME:EET
DTSTART:20231029T010000
END:STANDARD
BEGIN:DAYLIGHT
TZOFFSETFROM:+0200
TZOFFSETTO:+0300
TZNAME:EEST
DTSTART:20240331T010000
END:DAYLIGHT
BEGIN:STANDARD
TZOFFSETFROM:+0300
TZOFFSETTO:+0200
TZNAME:EET
DTSTART:20241027T010000
END:STANDARD
BEGIN:DAYLIGHT
TZOFFSETFROM:+0200
TZOFFSETTO:+0300
TZNAME:EEST
DTSTART:20250330T010000
END:DAYLIGHT
BEGIN:STANDARD
TZOFFSETFROM:+0300
TZOFFSETTO:+0200
TZNAME:EET
DTSTART:20251026T010000
END:STANDARD
END:VTIMEZONE
BEGIN:VEVENT
DTSTART;TZID=Europe/Helsinki:20240108T140000
DTEND;TZID=Europe/Helsinki:20240108T180000
DTSTAMP:20260421T100250
CREATED:20231227T180902Z
LAST-MODIFIED:20231227T181805Z
UID:22279-1704722400-1704736800@www.arcal-selestat.com
SUMMARY:Jeux de cartes (tarot et belote coinchée)
DESCRIPTION:Afin d’organiser les séances\, nous vous prions de bien vouloir nous avertir de votre présence.\nCes jeux se déroulent de 14 heures à 18 heures \n25 boulevard Amey\nSELESTAT\ntél 03 88 82 56 13\nBien cordialement.\n \n pour le Comité : Ghislaine Durand
URL:http://www.arcal-selestat.com/event/jeux-de-cartes-tarot-et-belote-coinchee/
END:VEVENT
BEGIN:VEVENT
DTSTART;TZID=Europe/Helsinki:20240111T120000
DTEND;TZID=Europe/Helsinki:20240111T140000
DTSTAMP:20260421T100250
CREATED:20231221T165910Z
LAST-MODIFIED:20231221T165910Z
UID:22238-1704974400-1704981600@www.arcal-selestat.com
SUMMARY:Galette des Rois 1er Groupe
DESCRIPTION:
URL:http://www.arcal-selestat.com/event/galette-des-rois-1er-groupe/
END:VEVENT
BEGIN:VEVENT
DTSTART;TZID=Europe/Helsinki:20240116T120000
DTEND;TZID=Europe/Helsinki:20240116T143000
DTSTAMP:20260421T100250
CREATED:20231227T182007Z
LAST-MODIFIED:20231227T182007Z
UID:22303-1705406400-1705415400@www.arcal-selestat.com
SUMMARY:Galette des Rois 2ème Groupe
DESCRIPTION:
URL:http://www.arcal-selestat.com/event/galette-des-rois-2eme-groupe/
END:VEVENT
BEGIN:VEVENT
DTSTART;TZID=Europe/Helsinki:20240122T140000
DTEND;TZID=Europe/Helsinki:20240122T180000
DTSTAMP:20260421T100250
CREATED:20231227T180933Z
LAST-MODIFIED:20231227T181742Z
UID:22281-1705932000-1705946400@www.arcal-selestat.com
SUMMARY:Jeux de cartes (tarot et belote coinchée)
DESCRIPTION:Afin d’organiser les séances\, nous vous prions de bien vouloir nous avertir de votre présence.\nCes jeux se déroulent de 14 heures à 18 heures \n25 boulevard Amey\nSELESTAT\ntél 03 88 82 56 13\nBien cordialement.\n \n pour le Comité : Ghislaine Durand
URL:http://www.arcal-selestat.com/event/jeux-de-cartes-tarot-et-belote-coinchee-2/
END:VEVENT
BEGIN:VEVENT
DTSTART;TZID=Europe/Helsinki:20240123T140000
DTEND;TZID=Europe/Helsinki:20240123T180000
DTSTAMP:20260421T100250
CREATED:20231227T180346Z
LAST-MODIFIED:20231227T180346Z
UID:22271-1706018400-1706032800@www.arcal-selestat.com
SUMMARY:Scrabble
DESCRIPTION:Afin d’organiser les séances\, nous vous prions de bien vouloir nous avertir de votre présence.\nCes jeux se déroulent de 14 heures à 18 heures \n25 boulevard Amey\nSELESTAT\ntél 03 88 82 56 13\nBien cordialement.\n \npour le Comité : Ghislaine Durand
URL:http://www.arcal-selestat.com/event/scrabble/
END:VEVENT
END:VCALENDAR