BEGIN:VCALENDAR
VERSION:2.0
PRODID:-//Arcal Sélestat - ECPv6.15.14//NONSGML v1.0//EN
CALSCALE:GREGORIAN
METHOD:PUBLISH
X-WR-CALNAME:Arcal Sélestat
X-ORIGINAL-URL:http://www.arcal-selestat.com
X-WR-CALDESC:Évènements pour Arcal Sélestat
REFRESH-INTERVAL;VALUE=DURATION:PT1H
X-Robots-Tag:noindex
X-PUBLISHED-TTL:PT1H
BEGIN:VTIMEZONE
TZID:Europe/Helsinki
BEGIN:DAYLIGHT
TZOFFSETFROM:+0200
TZOFFSETTO:+0300
TZNAME:EEST
DTSTART:20220327T010000
END:DAYLIGHT
BEGIN:STANDARD
TZOFFSETFROM:+0300
TZOFFSETTO:+0200
TZNAME:EET
DTSTART:20221030T010000
END:STANDARD
BEGIN:DAYLIGHT
TZOFFSETFROM:+0200
TZOFFSETTO:+0300
TZNAME:EEST
DTSTART:20230326T010000
END:DAYLIGHT
BEGIN:STANDARD
TZOFFSETFROM:+0300
TZOFFSETTO:+0200
TZNAME:EET
DTSTART:20231029T010000
END:STANDARD
BEGIN:DAYLIGHT
TZOFFSETFROM:+0200
TZOFFSETTO:+0300
TZNAME:EEST
DTSTART:20240331T010000
END:DAYLIGHT
BEGIN:STANDARD
TZOFFSETFROM:+0300
TZOFFSETTO:+0200
TZNAME:EET
DTSTART:20241027T010000
END:STANDARD
END:VTIMEZONE
BEGIN:VEVENT
DTSTART;TZID=Europe/Helsinki:20231201T133000
DTEND;TZID=Europe/Helsinki:20231201T173000
DTSTAMP:20260421T113445
CREATED:20230110T171445Z
LAST-MODIFIED:20231124T110133Z
UID:8180-1701437400-1701451800@www.arcal-selestat.com
SUMMARY:Randonnées
DESCRIPTION:  \n  \n  \nRendez-vous à 13h30 au parking covoiturage du Match ou à Hirtzelbach\, Circuit vers Breitenau ensuite Neuve-Église et retour. \nDistance 8\,5 km  dénivelé 220 m durée 2h30 participation 1 euro 50 \nLes personnes qui se rendent directement au lieu du départ réel de la randonnée sont priées de se renseigner si celle-ci est maintenue ou modifiée avec changement du lieu de départ. \nL’Arcal de Sélestat se réserve le droit d’annuler une sortie en proposant d’avancer à une date antérieure ou de reporter à une date ultérieure (Zone vigilance jaune\, orange et rouge\, fortes intempéries\, etc.). \nPour tous renseignements : \nBaudouin TRABAND Tél : 03 88 92 91 30 ou 06 09 30 31 89 ou mail à randoselarcal67@gmail.com
URL:http://www.arcal-selestat.com/event/randonnees-36/
END:VEVENT
BEGIN:VEVENT
DTSTART;TZID=Europe/Helsinki:20231204T140000
DTEND;TZID=Europe/Helsinki:20231204T180000
DTSTAMP:20260421T113445
CREATED:20230110T163413Z
LAST-MODIFIED:20231105T191932Z
UID:8129-1701698400-1701712800@www.arcal-selestat.com
SUMMARY:Jeux
DESCRIPTION:Les joueurs de cartes se réuniront chez Ghislaine Durand \nau 25 Boulevard Amey à Sélestat – Tél 06.07.85.61.36 – 03.88.82.56.13 \nPour une bonne organisation\, Merci de toujours prévenir auparavant en téléphonant.
URL:http://www.arcal-selestat.com/event/jeux-68/
LOCATION:25 Boulevard Amey 67600 SELESTAT\, 25 Boulevard Amey\, SELESTAT\, 67600
END:VEVENT
BEGIN:VEVENT
DTSTART;TZID=Europe/Helsinki:20231207T100000
DTEND;TZID=Europe/Helsinki:20231207T190000
DTSTAMP:20260421T113445
CREATED:20230829T122035Z
LAST-MODIFIED:20230829T125941Z
UID:22107-1701943200-1701975600@www.arcal-selestat.com
SUMMARY:Fête de Noël 2023
DESCRIPTION:au Music Hall Royal Palace de Kirrwiller \nMenu Festival :\n**Terrine de foie gras de canard Coulis de fraise et rhubarbe acidulé Pain abricot-raisin** Saumon confit – sésame grillé Pois cassé en condiment Huile parfumée au curry vert** Entrecôte de veau poêlée Purée aux truffes\, jus de viande en réduction et betteraves** L’important\, c’est la rose Un délicieux sablé\, mousse de  fromage blanc\, et sorbet litchi \nBoissons:\nApéro de JB Adam – 18.75 cl** Auxerrois Arthur Metz – 18.75 cl** Bordeaux Château\nMarquis d’Alban – 50 cl eau minérale + 1 café\n(** plus précisément 1 bouteille pour 4) \n–> Après le repas\, dans le théâtre du « Music-Hall » vous assisterez à un spectacle de variétés haut en\ncouleurs avec des artistes de renommée mondiale\n–> Après le spectacle\, Rendez-vous au « Lounge Club »\, un nouvel espace cosy pour ambiance et\nanimations musicales.\nDépart de Kirrwiller à 18 heures pour le retour à Sélestat.
URL:http://www.arcal-selestat.com/event/fete-de-noel-2023/
END:VEVENT
BEGIN:VEVENT
DTSTART;TZID=Europe/Helsinki:20231215T120000
DTEND;TZID=Europe/Helsinki:20231215T153000
DTSTAMP:20260421T113445
CREATED:20230829T120026Z
LAST-MODIFIED:20231113T153849Z
UID:22090-1702641600-1702654200@www.arcal-selestat.com
SUMMARY:Repas Pot au feu
DESCRIPTION:Auberge FRITSCH à KOGENHEIM 46a\, rue de Barr – Tél 03 88 74 71 61\nMenu : Pot-au-Feu – Son potage aux quenelles – La viande avec ses crudités – Dessert au choix\n1 Apéritif au choix\, vin blanc ou rouge\, eau et 1 café\nPrix par personne : 21 € boissons et service compris
URL:http://www.arcal-selestat.com/event/repas-pot-au-feu/
END:VEVENT
BEGIN:VEVENT
DTSTART;TZID=Europe/Helsinki:20231218T140000
DTEND;TZID=Europe/Helsinki:20231218T180000
DTSTAMP:20260421T113445
CREATED:20231105T192008Z
LAST-MODIFIED:20231105T192008Z
UID:22164-1702908000-1702922400@www.arcal-selestat.com
SUMMARY:Jeux
DESCRIPTION:Les joueurs de cartes se réuniront chez Ghislaine Durand \nau 25 Boulevard Amey à Sélestat – Tél 06.07.85.61.36 – 03.88.82.56.13 \nPour une bonne organisation\, Merci de toujours prévenir auparavant en téléphonant.
URL:http://www.arcal-selestat.com/event/jeux-64/
END:VEVENT
END:VCALENDAR