BEGIN:VCALENDAR
VERSION:2.0
PRODID:-//Arcal Sélestat - ECPv6.15.14//NONSGML v1.0//EN
CALSCALE:GREGORIAN
METHOD:PUBLISH
X-WR-CALNAME:Arcal Sélestat
X-ORIGINAL-URL:http://www.arcal-selestat.com
X-WR-CALDESC:Évènements pour Arcal Sélestat
REFRESH-INTERVAL;VALUE=DURATION:PT1H
X-Robots-Tag:noindex
X-PUBLISHED-TTL:PT1H
BEGIN:VTIMEZONE
TZID:Europe/Helsinki
BEGIN:DAYLIGHT
TZOFFSETFROM:+0200
TZOFFSETTO:+0300
TZNAME:EEST
DTSTART:20220327T010000
END:DAYLIGHT
BEGIN:STANDARD
TZOFFSETFROM:+0300
TZOFFSETTO:+0200
TZNAME:EET
DTSTART:20221030T010000
END:STANDARD
BEGIN:DAYLIGHT
TZOFFSETFROM:+0200
TZOFFSETTO:+0300
TZNAME:EEST
DTSTART:20230326T010000
END:DAYLIGHT
BEGIN:STANDARD
TZOFFSETFROM:+0300
TZOFFSETTO:+0200
TZNAME:EET
DTSTART:20231029T010000
END:STANDARD
BEGIN:DAYLIGHT
TZOFFSETFROM:+0200
TZOFFSETTO:+0300
TZNAME:EEST
DTSTART:20240331T010000
END:DAYLIGHT
BEGIN:STANDARD
TZOFFSETFROM:+0300
TZOFFSETTO:+0200
TZNAME:EET
DTSTART:20241027T010000
END:STANDARD
END:VTIMEZONE
BEGIN:VEVENT
DTSTART;TZID=Europe/Helsinki:20231103T133000
DTEND;TZID=Europe/Helsinki:20231103T173000
DTSTAMP:20260421T130252
CREATED:20230110T171324Z
LAST-MODIFIED:20231105T192143Z
UID:8176-1699018200-1699032600@www.arcal-selestat.com
SUMMARY:Randonnées
DESCRIPTION:Rendez-vous au parking covoiturage du Match à 13h30 ou à proximité du moulin d’OHNENHEIM pour faire le circuit du Sentier Botanique. \nDistance 8\,5 km  durée 2h30 dénivelé 4m  participation 1 euro 50 \nBon week-end et bonne semaine à tous \nLes personnes qui se rendent directement au lieu du départ réel de la randonnée sont priées de se renseigner si celle-ci est maintenue ou modifiée avec changement du lieu de départ. \nL’Arcal de Sélestat se réserve le droit d’annuler une sortie en proposant d’avancer à une date antérieure ou de reporter à une date ultérieure (Zone vigilance jaune\, orange et rouge\, fortes intempéries\, etc.). \nPour tous renseignements : \nBaudouin TRABAND Tél : 03 88 92 91 30 ou 06 09 30 31 89 ou mail à randoselarcal67@gmail.com
URL:http://www.arcal-selestat.com/event/randonnees-34/
END:VEVENT
BEGIN:VEVENT
DTSTART;TZID=Europe/Helsinki:20231106T140000
DTEND;TZID=Europe/Helsinki:20231106T180000
DTSTAMP:20260421T130252
CREATED:20230110T163248Z
LAST-MODIFIED:20231105T191829Z
UID:8125-1699279200-1699293600@www.arcal-selestat.com
SUMMARY:Jeux
DESCRIPTION:Les joueurs de cartes se réuniront chez Ghislaine Durand \nau 25 Boulevard Amey à Sélestat – Tél 06.07.85.61.36 – 03.88.82.56.13 \nPour une bonne organisation\, Merci de toujours prévenir auparavant en téléphonant.
URL:http://www.arcal-selestat.com/event/jeux-66/
LOCATION:25 Boulevard Amey 67600 SELESTAT\, 25 Boulevard Amey\, SELESTAT\, 67600
END:VEVENT
BEGIN:VEVENT
DTSTART;TZID=Europe/Helsinki:20231117T120000
DTEND;TZID=Europe/Helsinki:20231117T153000
DTSTAMP:20260421T130252
CREATED:20230829T115931Z
LAST-MODIFIED:20230829T115931Z
UID:22087-1700222400-1700235000@www.arcal-selestat.com
SUMMARY:Repas Cochonnailles
DESCRIPTION:
URL:http://www.arcal-selestat.com/event/repas-cochonnailles/
END:VEVENT
BEGIN:VEVENT
DTSTART;TZID=Europe/Helsinki:20231117T133000
DTEND;TZID=Europe/Helsinki:20231117T173000
DTSTAMP:20260421T130252
CREATED:20230110T171400Z
LAST-MODIFIED:20230110T171400Z
UID:8178-1700227800-1700242200@www.arcal-selestat.com
SUMMARY:Randonnées
DESCRIPTION:Le départ pour l’ensemble des sorties pédestres 2022 se fera uniquement à partir de l’ancien parking du supermarché MATCH – aire de covoiturage à SELESTAT à 13 heures 30 sauf pour les sorties d’une journée. \nLes personnes qui se rendent directement au lieu du départ réel de la randonnée sont priées de se renseigner si celle-ci est maintenue ou modifiée avec changement du lieu de départ. \nL’Arcal de Sélestat se réserve le droit d’annuler une sortie en proposant d’avancer à une date antérieure ou de reporter à une date ultérieure (Zone vigilance jaune\, orange et rouge\, fortes intempéries\, etc.). \nPour tous renseignements : \nBaudouin TRABAND Tél : 03 88 92 91 30 ou 06 09 30 31 89 ou mail à randoselarcal67@gmail.com
URL:http://www.arcal-selestat.com/event/randonnees-35/
END:VEVENT
BEGIN:VEVENT
DTSTART;TZID=Europe/Helsinki:20231120T140000
DTEND;TZID=Europe/Helsinki:20231120T180000
DTSTAMP:20260421T130252
CREATED:20230110T163330Z
LAST-MODIFIED:20231105T191908Z
UID:8127-1700488800-1700503200@www.arcal-selestat.com
SUMMARY:Jeux
DESCRIPTION:Les joueurs de cartes se réuniront chez Ghislaine Durand \nau 25 Boulevard Amey à Sélestat – Tél 06.07.85.61.36 – 03.88.82.56.13 \nPour une bonne organisation\, Merci de toujours prévenir auparavant en téléphonant.
URL:http://www.arcal-selestat.com/event/jeux-67/
LOCATION:25 Boulevard Amey 67600 SELESTAT\, 25 Boulevard Amey\, SELESTAT\, 67600
END:VEVENT
END:VCALENDAR