BEGIN:VCALENDAR
VERSION:2.0
PRODID:-//Arcal Sélestat - ECPv6.15.14//NONSGML v1.0//EN
CALSCALE:GREGORIAN
METHOD:PUBLISH
X-ORIGINAL-URL:http://www.arcal-selestat.com
X-WR-CALDESC:Évènements pour Arcal Sélestat
REFRESH-INTERVAL;VALUE=DURATION:PT1H
X-Robots-Tag:noindex
X-PUBLISHED-TTL:PT1H
BEGIN:VTIMEZONE
TZID:Europe/Helsinki
BEGIN:DAYLIGHT
TZOFFSETFROM:+0200
TZOFFSETTO:+0300
TZNAME:EEST
DTSTART:20220327T010000
END:DAYLIGHT
BEGIN:STANDARD
TZOFFSETFROM:+0300
TZOFFSETTO:+0200
TZNAME:EET
DTSTART:20221030T010000
END:STANDARD
BEGIN:DAYLIGHT
TZOFFSETFROM:+0200
TZOFFSETTO:+0300
TZNAME:EEST
DTSTART:20230326T010000
END:DAYLIGHT
BEGIN:STANDARD
TZOFFSETFROM:+0300
TZOFFSETTO:+0200
TZNAME:EET
DTSTART:20231029T010000
END:STANDARD
BEGIN:DAYLIGHT
TZOFFSETFROM:+0200
TZOFFSETTO:+0300
TZNAME:EEST
DTSTART:20240331T010000
END:DAYLIGHT
BEGIN:STANDARD
TZOFFSETFROM:+0300
TZOFFSETTO:+0200
TZNAME:EET
DTSTART:20241027T010000
END:STANDARD
END:VTIMEZONE
BEGIN:VEVENT
DTSTART;TZID=Europe/Helsinki:20230807T140000
DTEND;TZID=Europe/Helsinki:20230807T180000
DTSTAMP:20260423T144826
CREATED:20230110T162712Z
LAST-MODIFIED:20230110T162712Z
UID:8109-1691416800-1691431200@www.arcal-selestat.com
SUMMARY:Jeux
DESCRIPTION:Les joueurs de cartes se réuniront chez Ghislaine Durand \nau 25 Boulevard Amey à Sélestat – Tél 06.07.85.61.36 – 03.88.82.56.13 \nPour une bonne organisation\, Merci de toujours prévenir auparavant en téléphonant.
URL:http://www.arcal-selestat.com/event/jeux-58/
LOCATION:25 Boulevard Amey 67600 SELESTAT\, 25 Boulevard Amey\, SELESTAT\, 67600
END:VEVENT
BEGIN:VEVENT
DTSTART;TZID=Europe/Helsinki:20230821T140000
DTEND;TZID=Europe/Helsinki:20230821T180000
DTSTAMP:20260423T144826
CREATED:20230110T162753Z
LAST-MODIFIED:20230110T162753Z
UID:8111-1692626400-1692640800@www.arcal-selestat.com
SUMMARY:Jeux
DESCRIPTION:Les joueurs de cartes se réuniront chez Ghislaine Durand \nau 25 Boulevard Amey à Sélestat – Tél 06.07.85.61.36 – 03.88.82.56.13 \nPour une bonne organisation\, Merci de toujours prévenir auparavant en téléphonant.
URL:http://www.arcal-selestat.com/event/jeux-59/
LOCATION:25 Boulevard Amey 67600 SELESTAT\, 25 Boulevard Amey\, SELESTAT\, 67600
END:VEVENT
BEGIN:VEVENT
DTSTART;TZID=Europe/Helsinki:20230823T160000
DTEND;TZID=Europe/Helsinki:20230823T213000
DTSTAMP:20260423T144826
CREATED:20230829T120903Z
LAST-MODIFIED:20230829T120903Z
UID:22094-1692806400-1692826200@www.arcal-selestat.com
SUMMARY:Sortie Mackenheim + Diner
DESCRIPTION:16 h 00 Rendez-vous place de la Mairie.\nStationnement : parking de l’église ou de la mairie 30 rue principale.\nMonsieur le Maire nous accueillera pour la visite : Eglise\, quelques belles maisons….\nPuis suite en forêt : reprendre les voitures et se garer à la Maison forestière pour une\npetite marche nous amenant au cimetière israélite.\n19 h 00 Dîner au Restaurant Aux Deux Clefs 7 rue des Clefs.
URL:http://www.arcal-selestat.com/event/sortie-mackenheim-diner/
END:VEVENT
BEGIN:VEVENT
DTSTART;TZID=Europe/Helsinki:20230828T140000
DTEND;TZID=Europe/Helsinki:20230828T180000
DTSTAMP:20260423T144826
CREATED:20230110T162838Z
LAST-MODIFIED:20230110T162838Z
UID:8113-1693231200-1693245600@www.arcal-selestat.com
SUMMARY:Jeux
DESCRIPTION:Les joueurs de cartes se réuniront chez Ghislaine Durand \nau 25 Boulevard Amey à Sélestat – Tél 06.07.85.61.36 – 03.88.82.56.13 \nPour une bonne organisation\, Merci de toujours prévenir auparavant en téléphonant.
URL:http://www.arcal-selestat.com/event/jeux-60/
LOCATION:25 Boulevard Amey 67600 SELESTAT\, 25 Boulevard Amey\, SELESTAT\, 67600
END:VEVENT
END:VCALENDAR