BEGIN:VCALENDAR
VERSION:2.0
PRODID:-//Arcal Sélestat - ECPv6.15.14//NONSGML v1.0//EN
CALSCALE:GREGORIAN
METHOD:PUBLISH
X-WR-CALNAME:Arcal Sélestat
X-ORIGINAL-URL:http://www.arcal-selestat.com
X-WR-CALDESC:Évènements pour Arcal Sélestat
REFRESH-INTERVAL;VALUE=DURATION:PT1H
X-Robots-Tag:noindex
X-PUBLISHED-TTL:PT1H
BEGIN:VTIMEZONE
TZID:Europe/Helsinki
BEGIN:DAYLIGHT
TZOFFSETFROM:+0200
TZOFFSETTO:+0300
TZNAME:EEST
DTSTART:20220327T010000
END:DAYLIGHT
BEGIN:STANDARD
TZOFFSETFROM:+0300
TZOFFSETTO:+0200
TZNAME:EET
DTSTART:20221030T010000
END:STANDARD
BEGIN:DAYLIGHT
TZOFFSETFROM:+0200
TZOFFSETTO:+0300
TZNAME:EEST
DTSTART:20230326T010000
END:DAYLIGHT
BEGIN:STANDARD
TZOFFSETFROM:+0300
TZOFFSETTO:+0200
TZNAME:EET
DTSTART:20231029T010000
END:STANDARD
BEGIN:DAYLIGHT
TZOFFSETFROM:+0200
TZOFFSETTO:+0300
TZNAME:EEST
DTSTART:20240331T010000
END:DAYLIGHT
BEGIN:STANDARD
TZOFFSETFROM:+0300
TZOFFSETTO:+0200
TZNAME:EET
DTSTART:20241027T010000
END:STANDARD
END:VTIMEZONE
BEGIN:VEVENT
DTSTART;TZID=Europe/Helsinki:20230303T133000
DTEND;TZID=Europe/Helsinki:20230303T173000
DTSTAMP:20260425T143920
CREATED:20230110T165254Z
LAST-MODIFIED:20230228T153843Z
UID:8141-1677850200-1677864600@www.arcal-selestat.com
SUMMARY:Randonnées
DESCRIPTION:Rendez-vous à 13h30 au parking du Match aire de covoiturage à SELESTAT ou au point de départ au lieu-dit Schnellenbuhl ( Parking au bord de la route avant l’Auberge de l’Illwald ). \nCircuit dans le Ried\, le long de la Blind ensuite vers le moulin d’Ohnenheim\, puis Heidolsheim et retour. \nDistance 9km durée 2h30 pas de dénivelé \nparticipation AR 14 km 0\,70 € \nLes personnes qui se rendent directement au lieu du départ réel de la randonnée sont priées de se renseigner si celle-ci est maintenue ou modifiée avec changement du lieu de départ. \nL’Arcal de Sélestat se réserve le droit d’annuler une sortie en proposant d’avancer à une date antérieure ou de reporter à une date ultérieure (Zone vigilance jaune\, orange et rouge\, fortes intempéries\, etc.). \nPour tous renseignements : \nBaudouin TRABAND Tél : 03 88 92 91 30 ou 06 09 30 31 89 ou mail à randoselarcal67@gmail.com
URL:http://www.arcal-selestat.com/event/randonnees-21/
END:VEVENT
BEGIN:VEVENT
DTSTART;TZID=Europe/Helsinki:20230306T140000
DTEND;TZID=Europe/Helsinki:20230306T180000
DTSTAMP:20260425T143920
CREATED:20230110T161607Z
LAST-MODIFIED:20230110T161607Z
UID:8085-1678111200-1678125600@www.arcal-selestat.com
SUMMARY:Jeux
DESCRIPTION:Les joueurs de cartes se réuniront chez Ghislaine Durand \nau 25 Boulevard Amey à Sélestat – Tél 06.07.85.61.36 – 03.88.82.56.13 \nPour une bonne organisation\, Merci de toujours prévenir auparavant en téléphonant.
URL:http://www.arcal-selestat.com/event/jeux-46/
LOCATION:25 Boulevard Amey 67600 SELESTAT\, 25 Boulevard Amey\, SELESTAT\, 67600
END:VEVENT
BEGIN:VEVENT
DTSTART;TZID=Europe/Helsinki:20230308T150000
DTEND;TZID=Europe/Helsinki:20230308T180000
DTSTAMP:20260425T143920
CREATED:20230106T173928Z
LAST-MODIFIED:20230106T173928Z
UID:8068-1678287600-1678298400@www.arcal-selestat.com
SUMMARY:Réunion de Comité
DESCRIPTION:Local Club Vosgien
URL:http://www.arcal-selestat.com/event/reunion-de-comite-11/
END:VEVENT
BEGIN:VEVENT
DTSTART;TZID=Europe/Helsinki:20230317T133000
DTEND;TZID=Europe/Helsinki:20230317T173000
DTSTAMP:20260425T143920
CREATED:20230110T165336Z
LAST-MODIFIED:20230313T164652Z
UID:8143-1679059800-1679074200@www.arcal-selestat.com
SUMMARY:Randonnées
DESCRIPTION:Rendez-vous au parking du Match – aire de covoiturage à SELESTAT à 13 heures 30 ou au point de départ à la chapelle de l’Abbaye du Baumgarten. \nCircuit dans le vignoble par le Muenschnaelden\, puis le Taubental\, ensuite remonter vers le Siebenberg\, oratoire St Urbain et redescendre traverser Reichsfeld et retour à l’Abbaye en passant par Bernardvillé. \nDistance 7 km – durée 2h30 – dénivelé 180m – Participation  2 euros \nLes personnes qui se rendent directement au lieu du départ réel de la randonnée sont priées de se renseigner si celle-ci est maintenue ou modifiée avec changement du lieu de départ. \nL’Arcal de Sélestat se réserve le droit d’annuler une sortie en proposant d’avancer à une date antérieure ou de reporter à une date ultérieure (Zone vigilance jaune\, orange et rouge\, fortes intempéries\, etc.). \nPour tout renseignement complémentaire Baudouin tél : 06 09 30 31 89
URL:http://www.arcal-selestat.com/event/randonnees-22/
END:VEVENT
BEGIN:VEVENT
DTSTART;VALUE=DATE:20230319
DTEND;VALUE=DATE:20230324
DTSTAMP:20260425T143920
CREATED:20230110T164342Z
LAST-MODIFIED:20230110T164342Z
UID:8134-1679184000-1679615999@www.arcal-selestat.com
SUMMARY:« Trains de légende\, en Suisse »
DESCRIPTION:Titisee\, lac de Constance\, Chur – Arosa train de la Réthique\, le BERNINA-EXPRESS\, le mythique GLACIER EXPRESS \nAu départ vers 10h du parking des remparts rue de la Brigade Alsace-Lorraine (au sud du stade municipal)\, à Sélestat.Transport en autocar grand tourisme équipé WC / vidéo\, climatisation.\n5 jours\, hébergement 4 nuits à l’hôtel Weisses Kreuz 4**** à Feldkirch.
URL:http://www.arcal-selestat.com/event/trains-de-legende-en-suisse/
END:VEVENT
BEGIN:VEVENT
DTSTART;TZID=Europe/Helsinki:20230320T140000
DTEND;TZID=Europe/Helsinki:20230320T180000
DTSTAMP:20260425T143920
CREATED:20230110T163553Z
LAST-MODIFIED:20230110T163553Z
UID:8131-1679320800-1679335200@www.arcal-selestat.com
SUMMARY:Jeux
DESCRIPTION:Les joueurs de cartes se réuniront chez Ghislaine Durand \nau 25 Boulevard Amey à Sélestat – Tél 06.07.85.61.36 – 03.88.82.56.13 \nPour une bonne organisation\, Merci de toujours prévenir auparavant en téléphonant.
URL:http://www.arcal-selestat.com/event/jeux-69/
LOCATION:25 Boulevard Amey 67600 SELESTAT\, 25 Boulevard Amey\, SELESTAT\, 67600
END:VEVENT
BEGIN:VEVENT
DTSTART;TZID=Europe/Helsinki:20230330T103000
DTEND;TZID=Europe/Helsinki:20230330T143000
DTSTAMP:20260425T143920
CREATED:20230215T134813Z
LAST-MODIFIED:20230215T134813Z
UID:8227-1680172200-1680186600@www.arcal-selestat.com
SUMMARY:Assemblée Générale
DESCRIPTION:L’assemblée Générale de l’Association aura lieu Au restaurant du Parc à Saint Hyppolite suivi d’un repas.
URL:http://www.arcal-selestat.com/event/assemblee-generale/
END:VEVENT
BEGIN:VEVENT
DTSTART;TZID=Europe/Helsinki:20230331T133000
DTEND;TZID=Europe/Helsinki:20230331T170000
DTSTAMP:20260425T143920
CREATED:20230327T103149Z
LAST-MODIFIED:20230327T103149Z
UID:14881-1680269400-1680282000@www.arcal-selestat.com
SUMMARY:Randonnée
DESCRIPTION:Rendez-vous à 13h30 au parking du Match ou au point de départ à Dambach-La-Ville au parking à proximité de la porte de Blienschwiller\, pour un circuit dans le vignoble à l’Est de Dambach-La-Ville. \ndistance 7 km dénivelé 100m durée 2h. Participation 1 euro. \nPour tout renseignement complémentaire Baudouin tél : 06 09 30 31 89
URL:http://www.arcal-selestat.com/event/randonnee-2/
END:VEVENT
END:VCALENDAR