BEGIN:VCALENDAR
VERSION:2.0
PRODID:-//Arcal Sélestat - ECPv6.15.14//NONSGML v1.0//EN
CALSCALE:GREGORIAN
METHOD:PUBLISH
X-ORIGINAL-URL:http://www.arcal-selestat.com
X-WR-CALDESC:Évènements pour Arcal Sélestat
REFRESH-INTERVAL;VALUE=DURATION:PT1H
X-Robots-Tag:noindex
X-PUBLISHED-TTL:PT1H
BEGIN:VTIMEZONE
TZID:Europe/Helsinki
BEGIN:DAYLIGHT
TZOFFSETFROM:+0200
TZOFFSETTO:+0300
TZNAME:EEST
DTSTART:20220327T010000
END:DAYLIGHT
BEGIN:STANDARD
TZOFFSETFROM:+0300
TZOFFSETTO:+0200
TZNAME:EET
DTSTART:20221030T010000
END:STANDARD
BEGIN:DAYLIGHT
TZOFFSETFROM:+0200
TZOFFSETTO:+0300
TZNAME:EEST
DTSTART:20230326T010000
END:DAYLIGHT
BEGIN:STANDARD
TZOFFSETFROM:+0300
TZOFFSETTO:+0200
TZNAME:EET
DTSTART:20231029T010000
END:STANDARD
BEGIN:DAYLIGHT
TZOFFSETFROM:+0200
TZOFFSETTO:+0300
TZNAME:EEST
DTSTART:20240331T010000
END:DAYLIGHT
BEGIN:STANDARD
TZOFFSETFROM:+0300
TZOFFSETTO:+0200
TZNAME:EET
DTSTART:20241027T010000
END:STANDARD
END:VTIMEZONE
BEGIN:VEVENT
DTSTART;TZID=Europe/Helsinki:20230202T101000
DTEND;TZID=Europe/Helsinki:20230202T150000
DTSTAMP:20260425T163043
CREATED:20230106T174450Z
LAST-MODIFIED:20230106T174600Z
UID:8076-1675332600-1675350000@www.arcal-selestat.com
SUMMARY:Déjeuner Poissons à Illhausern
DESCRIPTION:10 h 10 Rendez-vous au parking des Vieux Remparts à Sélestat (trajet 1€)\nOu\n10 h 30 Rendez-vous au « char Porc-Epic » sortie Illhaeusern D106 route d’Elsenheim. \nPuis reprendre voiture jusqu’au parking place de l’Eglise. (belle sculpture de M. BOSSHARDT) \nVisite commentée du centre puis court trajet jusqu’au confluent de la Fecht et de l’Ill suivi d’un déjeuner au Restaurant « La Truite » 17 rue du 25 Janvier
URL:http://www.arcal-selestat.com/event/dejeuner-poissons-a-illhausern/
END:VEVENT
BEGIN:VEVENT
DTSTART;TZID=Europe/Helsinki:20230203T133000
DTEND;TZID=Europe/Helsinki:20230203T173000
DTSTAMP:20260425T163043
CREATED:20230110T165132Z
LAST-MODIFIED:20230131T185434Z
UID:8137-1675431000-1675445400@www.arcal-selestat.com
SUMMARY:Randonnées
DESCRIPTION:Rendez-vous à 13h30 au parking covoiturage du Match ou au point de départ au parking à Ehnwihr (près de la Maison de la Nature) – Circuit autour de Muttersholtz d \nDistance  8 km 800  –  Durée 2h30  – aucun dénivelé. \n1 € par covoituré. \nLes personnes qui se rendent directement au lieu du départ réel de la randonnée sont priées de se renseigner si celle-ci est maintenue ou modifiée avec changement du lieu de départ. \nL’Arcal de Sélestat se réserve le droit d’annuler une sortie en proposant d’avancer à une date antérieure ou de reporter à une date ultérieure (Zone vigilance jaune\, orange et rouge\, fortes intempéries\, etc.). \nPour tous renseignements : \nBaudouin TRABAND Tél : 03 88 92 91 30 ou 06 09 30 31 89 ou mail à randoselarcal67@gmail.com
URL:http://www.arcal-selestat.com/event/randonnees-19/
END:VEVENT
BEGIN:VEVENT
DTSTART;TZID=Europe/Helsinki:20230206T140000
DTEND;TZID=Europe/Helsinki:20230206T180000
DTSTAMP:20260425T163043
CREATED:20230110T161427Z
LAST-MODIFIED:20230110T161427Z
UID:8081-1675692000-1675706400@www.arcal-selestat.com
SUMMARY:Jeux
DESCRIPTION:Les joueurs de cartes se réuniront chez Ghislaine Durand \nau 25 Boulevard Amey à Sélestat – Tél 06.07.85.61.36 – 03.88.82.56.13 \nPour une bonne organisation\, Merci de toujours prévenir auparavant en téléphonant.
URL:http://www.arcal-selestat.com/event/jeux-44/
LOCATION:25 Boulevard Amey 67600 SELESTAT\, 25 Boulevard Amey\, SELESTAT\, 67600
END:VEVENT
BEGIN:VEVENT
DTSTART;TZID=Europe/Helsinki:20230208T150000
DTEND;TZID=Europe/Helsinki:20230208T180000
DTSTAMP:20260425T163043
CREATED:20230106T173846Z
LAST-MODIFIED:20230106T173846Z
UID:8066-1675868400-1675879200@www.arcal-selestat.com
SUMMARY:Réunion de Comité
DESCRIPTION:Local Club Vosgien
URL:http://www.arcal-selestat.com/event/reunion-de-comite-10/
END:VEVENT
BEGIN:VEVENT
DTSTART;TZID=Europe/Helsinki:20230217T133000
DTEND;TZID=Europe/Helsinki:20230217T173000
DTSTAMP:20260425T163043
CREATED:20230110T165214Z
LAST-MODIFIED:20230212T155306Z
UID:8139-1676640600-1676655000@www.arcal-selestat.com
SUMMARY:Randonnées
DESCRIPTION:Rendez-vous à 13h30 au parking covoiturage du Match ou au point de départ au parking de la gare de Dambach-La-Ville. \nLe circuit passera par la chapelle St Sébastien\, en montant le long des remparts côté nord\, nous continuons ensuite sur le sentier du vignoble jusqu’à Dieffenthal et retour par la route cyclable. \nDistance 9 km – dénivelé 110 m –  durée 2h30       participation  1 euro \nLes personnes qui se rendent directement au lieu du départ réel de la randonnée sont priées de se renseigner si celle-ci est maintenue ou modifiée avec changement du lieu de départ. \nL’Arcal de Sélestat se réserve le droit d’annuler une sortie en proposant d’avancer à une date antérieure ou de reporter à une date ultérieure (Zone vigilance jaune\, orange et rouge\, fortes intempéries\, etc.). \nPour tous renseignements : \nBaudouin TRABAND Tél : 03 88 92 91 30 ou 06 09 30 31 89 ou mail à randoselarcal67@gmail.com
URL:http://www.arcal-selestat.com/event/randonnees-20/
END:VEVENT
BEGIN:VEVENT
DTSTART;TZID=Europe/Helsinki:20230220T140000
DTEND;TZID=Europe/Helsinki:20230220T180000
DTSTAMP:20260425T163043
CREATED:20230110T161517Z
LAST-MODIFIED:20230110T161517Z
UID:8083-1676901600-1676916000@www.arcal-selestat.com
SUMMARY:Jeux
DESCRIPTION:Les joueurs de cartes se réuniront chez Ghislaine Durand \nau 25 Boulevard Amey à Sélestat – Tél 06.07.85.61.36 – 03.88.82.56.13 \nPour une bonne organisation\, Merci de toujours prévenir auparavant en téléphonant.
URL:http://www.arcal-selestat.com/event/jeux-45/
LOCATION:25 Boulevard Amey 67600 SELESTAT\, 25 Boulevard Amey\, SELESTAT\, 67600
END:VEVENT
BEGIN:VEVENT
DTSTART;TZID=Europe/Helsinki:20230223T094500
DTEND;TZID=Europe/Helsinki:20230223T160000
DTSTAMP:20260425T163043
CREATED:20230215T134433Z
LAST-MODIFIED:20230215T134934Z
UID:8225-1677145500-1677168000@www.arcal-selestat.com
SUMMARY:Sélestat et la maison du Pain
DESCRIPTION:9 H 45 Rendez-vous devant la Bibliothèque Humaniste pour une visite commentée par Liliane Hoechstetter des maisons « Renaissance » de la rue des Chevaliers. \n12 H Déjeuner à la Maison du Pin (Tourte – Baeckeoffe – Tarte) \nVisite guidée par Gilbert Balthazard du Musée du Pain.
URL:http://www.arcal-selestat.com/event/selestat-et-la-maison-du-pain/
END:VEVENT
END:VCALENDAR