BEGIN:VCALENDAR
VERSION:2.0
PRODID:-//Arcal Sélestat - ECPv6.15.14//NONSGML v1.0//EN
CALSCALE:GREGORIAN
METHOD:PUBLISH
X-ORIGINAL-URL:http://www.arcal-selestat.com
X-WR-CALDESC:Évènements pour Arcal Sélestat
REFRESH-INTERVAL;VALUE=DURATION:PT1H
X-Robots-Tag:noindex
X-PUBLISHED-TTL:PT1H
BEGIN:VTIMEZONE
TZID:Europe/Helsinki
BEGIN:DAYLIGHT
TZOFFSETFROM:+0200
TZOFFSETTO:+0300
TZNAME:EEST
DTSTART:20220327T010000
END:DAYLIGHT
BEGIN:STANDARD
TZOFFSETFROM:+0300
TZOFFSETTO:+0200
TZNAME:EET
DTSTART:20221030T010000
END:STANDARD
BEGIN:DAYLIGHT
TZOFFSETFROM:+0200
TZOFFSETTO:+0300
TZNAME:EEST
DTSTART:20230326T010000
END:DAYLIGHT
BEGIN:STANDARD
TZOFFSETFROM:+0300
TZOFFSETTO:+0200
TZNAME:EET
DTSTART:20231029T010000
END:STANDARD
BEGIN:DAYLIGHT
TZOFFSETFROM:+0200
TZOFFSETTO:+0300
TZNAME:EEST
DTSTART:20240331T010000
END:DAYLIGHT
BEGIN:STANDARD
TZOFFSETFROM:+0300
TZOFFSETTO:+0200
TZNAME:EET
DTSTART:20241027T010000
END:STANDARD
END:VTIMEZONE
BEGIN:VEVENT
DTSTART;TZID=Europe/Helsinki:20230109T140000
DTEND;TZID=Europe/Helsinki:20230109T180000
DTSTAMP:20260425T182730
CREATED:20230105T112922Z
LAST-MODIFIED:20230105T112922Z
UID:8058-1673272800-1673287200@www.arcal-selestat.com
SUMMARY:Jeux
DESCRIPTION:Les joueurs de cartes se réuniront chez Ghislaine Durand \nau 25 Boulevard Amey à Sélestat – Tél 06.07.85.61.36 – 03.88.82.56.13 \nPour une bonne organisation\, Merci de toujours prévenir auparavant en téléphonant.
URL:http://www.arcal-selestat.com/event/jeux-25/
LOCATION:25 Boulevard Amey 67600 SELESTAT\, 25 Boulevard Amey\, SELESTAT\, 67600
END:VEVENT
BEGIN:VEVENT
DTSTART;TZID=Europe/Helsinki:20230111T150000
DTEND;TZID=Europe/Helsinki:20230111T180000
DTSTAMP:20260425T182730
CREATED:20230106T173804Z
LAST-MODIFIED:20230106T173804Z
UID:8064-1673449200-1673460000@www.arcal-selestat.com
SUMMARY:Réunion de Comité
DESCRIPTION:Local Club Vosgien
URL:http://www.arcal-selestat.com/event/reunion-de-comite-9/
END:VEVENT
BEGIN:VEVENT
DTSTART;TZID=Europe/Helsinki:20230112T121500
DTEND;TZID=Europe/Helsinki:20230112T153000
DTSTAMP:20260425T182730
CREATED:20230106T174718Z
LAST-MODIFIED:20230106T174718Z
UID:8079-1673525700-1673537400@www.arcal-selestat.com
SUMMARY:Fête des Rois
DESCRIPTION:Nous avons le plaisir de vous inviter à la traditionnelle Fête des Rois qui aura lieu à l’hôtel Restaurant Les Humanistes -Best Western Plus – SELESTAT Carrefour du Haut-Koenigsbourg
URL:http://www.arcal-selestat.com/event/fete-des-rois-3/
END:VEVENT
BEGIN:VEVENT
DTSTART;TZID=Europe/Helsinki:20230123T140000
DTEND;TZID=Europe/Helsinki:20230123T180000
DTSTAMP:20260425T182730
CREATED:20230105T113025Z
LAST-MODIFIED:20230105T113025Z
UID:8062-1674482400-1674496800@www.arcal-selestat.com
SUMMARY:Jeux
DESCRIPTION:Les joueurs de cartes se réuniront chez Ghislaine Durand \nau 25 Boulevard Amey à Sélestat – Tél 06.07.85.61.36 – 03.88.82.56.13 \nPour une bonne organisation\, Merci de toujours prévenir auparavant en téléphonant.
URL:http://www.arcal-selestat.com/event/jeux-27/
LOCATION:25 Boulevard Amey 67600 SELESTAT\, 25 Boulevard Amey\, SELESTAT\, 67600
END:VEVENT
END:VCALENDAR