BEGIN:VCALENDAR
VERSION:2.0
PRODID:-//Arcal Sélestat - ECPv6.15.14//NONSGML v1.0//EN
CALSCALE:GREGORIAN
METHOD:PUBLISH
X-ORIGINAL-URL:http://www.arcal-selestat.com
X-WR-CALDESC:Évènements pour Arcal Sélestat
REFRESH-INTERVAL;VALUE=DURATION:PT1H
X-Robots-Tag:noindex
X-PUBLISHED-TTL:PT1H
BEGIN:VTIMEZONE
TZID:Europe/Helsinki
BEGIN:DAYLIGHT
TZOFFSETFROM:+0200
TZOFFSETTO:+0300
TZNAME:EEST
DTSTART:20210328T010000
END:DAYLIGHT
BEGIN:STANDARD
TZOFFSETFROM:+0300
TZOFFSETTO:+0200
TZNAME:EET
DTSTART:20211031T010000
END:STANDARD
BEGIN:DAYLIGHT
TZOFFSETFROM:+0200
TZOFFSETTO:+0300
TZNAME:EEST
DTSTART:20220327T010000
END:DAYLIGHT
BEGIN:STANDARD
TZOFFSETFROM:+0300
TZOFFSETTO:+0200
TZNAME:EET
DTSTART:20221030T010000
END:STANDARD
BEGIN:DAYLIGHT
TZOFFSETFROM:+0200
TZOFFSETTO:+0300
TZNAME:EEST
DTSTART:20230326T010000
END:DAYLIGHT
BEGIN:STANDARD
TZOFFSETFROM:+0300
TZOFFSETTO:+0200
TZNAME:EET
DTSTART:20231029T010000
END:STANDARD
END:VTIMEZONE
BEGIN:VEVENT
DTSTART;TZID=Europe/Helsinki:20221104T133000
DTEND;TZID=Europe/Helsinki:20221104T173000
DTSTAMP:20260425T215225
CREATED:20220117T180727Z
LAST-MODIFIED:20221030T133402Z
UID:7393-1667568600-1667583000@www.arcal-selestat.com
SUMMARY:Randonnées
DESCRIPTION:Rendez-vous au parking du Match aire de covoiturage à SELESTAT à 13 heures 30. \nItinéraire : « autour de la gravière de Bergheim ». \nDistance 10 km  durée 2h30  pas de dénivelé \nParticipation 0\,50 euro \nLes personnes qui se rendent directement au lieu du départ réel de la randonnée sont priées de se renseigner si celle-ci est maintenue ou modifiée avec changement du lieu de départ. \nL’Arcal de Sélestat se réserve le droit d’annuler une sortie en proposant d’avancer à une date antérieure ou de reporter à une date ultérieure (Zone vigilance jaune\, orange et rouge\, fortes intempéries\, etc.). \nPour tous renseignements : \nBaudouin TRABAND Tél : 03 88 92 91 30 ou 06 09 30 31 89 ou mail à baudouin.traband@orange.fr
URL:http://www.arcal-selestat.com/event/randonnees-16/
END:VEVENT
BEGIN:VEVENT
DTSTART;TZID=Europe/Helsinki:20221107T140000
DTEND;TZID=Europe/Helsinki:20221107T180000
DTSTAMP:20260425T215225
CREATED:20220830T082550Z
LAST-MODIFIED:20220830T082550Z
UID:7838-1667829600-1667844000@www.arcal-selestat.com
SUMMARY:Jeux
DESCRIPTION:Les joueurs de cartes se réuniront chez Ghislaine Durand au 25 Boulevard Amey à Sélestat – Tél 06.07.85.61.36 – 03.88.82.56.13\n\nPour une bonne organisation\, Merci de toujours prévenir auparavant en téléphonant.
URL:http://www.arcal-selestat.com/event/jeux-32/
END:VEVENT
BEGIN:VEVENT
DTSTART;TZID=Europe/Helsinki:20221114T140000
DTEND;TZID=Europe/Helsinki:20221114T180000
DTSTAMP:20260425T215225
CREATED:20220829T100150Z
LAST-MODIFIED:20221028T090640Z
UID:7833-1668434400-1668448800@www.arcal-selestat.com
SUMMARY:Jeux
DESCRIPTION:Les joueurs de cartes se réuniront chez Ghislaine Durand au 25 Boulevard Amey à Sélestat – Tél 06.07.85.61.36 – 03.88.82.56.13\n\nPour une bonne organisation\, Merci de toujours prévenir auparavant en téléphonant.
URL:http://www.arcal-selestat.com/event/jeux-30/
END:VEVENT
BEGIN:VEVENT
DTSTART;TZID=Europe/Helsinki:20221116T150000
DTEND;TZID=Europe/Helsinki:20221116T170000
DTSTAMP:20260425T215225
CREATED:20221116T154842Z
LAST-MODIFIED:20221116T154852Z
UID:7988-1668610800-1668618000@www.arcal-selestat.com
SUMMARY:Réunion de Comité
DESCRIPTION:Dans les locaux du club vosgiens Rue des Chevaliers à Sélestat.
URL:http://www.arcal-selestat.com/event/reunion-de-comite-8/
END:VEVENT
BEGIN:VEVENT
DTSTART;TZID=Europe/Helsinki:20221118T120000
DTEND;TZID=Europe/Helsinki:20221118T153000
DTSTAMP:20260425T215225
CREATED:20220830T091058Z
LAST-MODIFIED:20220830T091058Z
UID:7876-1668772800-1668785400@www.arcal-selestat.com
SUMMARY:Déjeuner Cochonnailles à Fouchy
DESCRIPTION:Restaurant DIETTE à Fouchy\nMenu : Soupe – Presskopf – Boudin – Trou « alsacien » – Choucroute – Dessert
URL:http://www.arcal-selestat.com/event/dejeuner-cochonnailles-a-fouchy-2/
END:VEVENT
BEGIN:VEVENT
DTSTART;TZID=Europe/Helsinki:20221118T133000
DTEND;TZID=Europe/Helsinki:20221118T173000
DTSTAMP:20260425T215225
CREATED:20220117T180759Z
LAST-MODIFIED:20220131T113038Z
UID:7395-1668778200-1668792600@www.arcal-selestat.com
SUMMARY:Randonnées
DESCRIPTION:Le départ pour l’ensemble des sorties pédestres 2022 se fera uniquement à partir de l’ancien parking du supermarché MATCH – aire de covoiturage à SELESTAT à 13 heures 30 sauf pour les sorties d’une journée. \nLes personnes qui se rendent directement au lieu du départ réel de la randonnée sont priées de se renseigner si celle-ci est maintenue ou modifiée avec changement du lieu de départ. \nL’Arcal de Sélestat se réserve le droit d’annuler une sortie en proposant d’avancer à une date antérieure ou de reporter à une date ultérieure (Zone vigilance jaune\, orange et rouge\, fortes intempéries\, etc.). \nPour tous renseignements : \nBaudouin TRABAND Tél : 03 88 92 91 30 ou 06 09 30 31 89 ou mail à baudouin.traband@orange.fr
URL:http://www.arcal-selestat.com/event/randonnees-17/
END:VEVENT
BEGIN:VEVENT
DTSTART;TZID=Europe/Helsinki:20221121T140000
DTEND;TZID=Europe/Helsinki:20221121T180000
DTSTAMP:20260425T215225
CREATED:20220830T082627Z
LAST-MODIFIED:20220830T082627Z
UID:7840-1669039200-1669053600@www.arcal-selestat.com
SUMMARY:Jeux
DESCRIPTION:Les joueurs de cartes se réuniront chez Ghislaine Durand au 25 Boulevard Amey à Sélestat – Tél 06.07.85.61.36 – 03.88.82.56.13\n\nPour une bonne organisation\, Merci de toujours prévenir auparavant en téléphonant.
URL:http://www.arcal-selestat.com/event/jeux-33/
END:VEVENT
END:VCALENDAR